Workbook
Name OLE_LINK1: 'y-2檢核表'!$A$3

Sheet y-1總表
A1: 表y-1 新屋高中優質化年度經費編列總表【108學年度】
N2: 單位：仟元
A3: 計畫代碼 | B3: 經費配置來源 | G3: 優質化整體經費分析 | J3: 優質化整體經費 | L3: 執行情形(108年-109年9月底前填寫)
B4: 優質化專案教育部補助款 | C4: 優質化專案直轄市、縣(市)立學校主管機關配合款 | D4: 自籌款 | E4: 其他補助款 | F4: 合計數 | G4: 經常門 | H4: 資本門 | I4: 合計數 | J4: 初審申請 金額 | K4: 核定 金額 | L4: 經常門 | M4: 資本門 | N4: 經常門執行率 | O4: 資本門執行率
A5: A | B5: =SUM('y-2檢核表'!D6:E10)+SUM('y-2檢核表'!D20:E24) -> 383 | C5: =SUM('y-2檢核表'!F6:G10)+SUM('y-2檢核表'!F20:G24) -> 67 | D5: =SUM('y-2檢核表'!H6:I10)+SUM('y-2檢核表'!H20:I24) -> 0 | E5: =SUM('y-2檢核表'!J6:K10)+SUM('y-2檢核表'!J20:K24) -> 0 | F5: =SUM(B5:E5) -> 450 | G5: =SUM('y-2檢核表'!L6:L10)+SUM('y-2檢核表'!L20:L24) -> 450 | H5: =SUM('y-2檢核表'!M6:M10)+SUM('y-2檢核表'!M20:M24) -> 0 | I5: =SUM(G5:H5) -> 450 | N5: =L5/G5 -> 0 | O5: =M5/H5 -> #DIV/0!
A6: B | B6: =SUM('y-2檢核表'!D11:E13)+SUM('y-2檢核表'!D25:E27) -> 857 | C6: =SUM('y-2檢核表'!F11:G13)+SUM('y-2檢核表'!F25:G27) -> 153 | D6: =SUM('y-2檢核表'!H11:I13)+SUM('y-2檢核表'!H25:I27) -> 0 | E6: =SUM('y-2檢核表'!J11:K13)+SUM('y-2檢核表'!J25:K27) -> 0 | F6: =SUM(B6:E6) -> 1010 | G6: =SUM('y-2檢核表'!L11:L13)+SUM('y-2檢核表'!L25:L27) -> 500 | H6: =SUM('y-2檢核表'!M11:M13)+SUM('y-2檢核表'!M25:M27) -> 510 | I6: =SUM(G6:H6) -> 1010 | N6: =L6/G6 -> 0 | O6: =M6/H6 -> 0
A7: C | B7: =SUM('y-2檢核表'!D14:E16)+SUM('y-2檢核表'!D28:E30) -> 154 | C7: =SUM('y-2檢核表'!F14:G16)+SUM('y-2檢核表'!F28:G30) -> 26 | D7: =SUM('y-2檢核表'!H14:I15)+SUM('y-2檢核表'!H28:I29) -> 0 | E7: =SUM('y-2檢核表'!I14:J15)+SUM('y-2檢核表'!I28:J29) -> 0 | F7: =SUM(B7:E7) -> 180 | G7: =SUM('y-2檢核表'!L14:L16)+SUM('y-2檢核表'!L28:L30) -> 180 | H7: =SUM('y-2檢核表'!M14:M16)+SUM('y-2檢核表'!M28:M30) -> 0 | I7: =SUM(G7:H7) -> 180 | N7: =L7/G7 -> 0 | O7: =M7/H7 -> #DIV/0!
A8: D | B8: =SUM('y-2檢核表'!D17:E18)+SUM('y-2檢核表'!D31:E32) -> 306 | C8: =SUM('y-2檢核表'!F17:G18)+SUM('y-2檢核表'!F31:G32) -> 54 | D8: =SUM('y-2檢核表'!H17:I18)+SUM('y-2檢核表'!H31:I32) -> 0 | E8: =SUM('y-2檢核表'!J17:K18)+SUM('y-2檢核表'!J31:K32) -> 0 | F8: =SUM(B8:E8) -> 360 | G8: =SUM('y-2檢核表'!L17:L18)+SUM('y-2檢核表'!L31:L32) -> 320 | H8: =SUM('y-2檢核表'!M17:M18)+SUM('y-2檢核表'!M31:M32) -> 40 | I8: =SUM(G8:H8) -> 360 | N8: =L8/G8 -> 0 | O8: =M8/H8 -> 0
A9: 小 計 | B9: =SUM(B5:B8) -> 1700 | C9: =SUM(C5:C8) -> 300 | D9: =SUM(D5:D8) -> 0 | E9: =SUM(E5:E8) -> 0 | F9: =SUM(F5:F8) -> 2000 | G9: =SUM(G5:G8) -> 1450 | H9: =SUM(H5:H8) -> 550 | I9: =SUM(I5:I8) -> 2000 | ... M9: =SUM(M5:M8) -> 0 | N9: =L9/G9 -> 0 | O9: =M9/H9 -> 0
A10: 說明：1、執行情形目前無法填寫，請於109年7月31日執行完畢後，最慢於9月底前填寫，並將此108學年度完整版經費總表上傳至"資訊網/計畫資料上傳區/學校經費表。(請先刪除舊有檔案，方可上傳新檔案)
A11: 2、優質化專案補助款：指的是教育部的補助款。
A12: 3、直轄市(縣市立主管機關配合款)：依照高中優質化輔助方案經費要點，就各直轄市、縣（市）政府財力級次，給予不同補助比率，屬第一級者，最高補助比率為百分之八十；屬第二級者，最高補助比率為
A13: 屬第三級最高補助比率為百分之八十八；屬第四級最高補助比率為百分之八十九；其第五級最高補助比率為百分之九十。
B15: 承辦人 | E15: 承辦主任 | I15: 主計主任 | M15: 校長

Sheet y-2檢核表
A1: 表y-2 新屋高中優質化年度經費編列檢核表【108學年度】
N2: 單位：仟元
A3: 年度 | B3: 子計畫代碼 | C3: 子計畫項目名稱 | D3: 經費配置來源 | L3: 優質化整體經費 A+B+C+D
D4: 優質化專案教育部補助款 (A) | F4: 優質化專案直轄市、縣(市)立學校主管機關配合款 (B) | H4: 自籌款 (C) | J4: 其他補助款 (D)
D5: 經常門 | E5: 資本門 | F5: 經常門 | G5: 資本門 | H5: 經常門 | I5: 資本門 | J5: 經常門 | K5: 資本門 | L5: 經常門 | M5: 資本門 | N5: 合計數
A6: 108會計年度︵108學年上學期︶ | B6: 108-A-1 | C6: 新課綱課程總體發展計畫 | D6: =SUMIFS(各子計畫經費!$L:$L,各子計畫經費!$G:$G,"A",各子計畫經費!$F:$F,"1",各子計畫經費!$E:$E,"108",各子計畫經費!$B:$B,"經")/1000*0.85+0.5 -> 298 | E6: =SUMIFS(各子計畫經費!$L:$L,各子計畫經費!$G:$G,"A",各子計畫經費!$F:$F,"1",各子計畫經費!$E:$E,"108",各子計畫經費!$B:$B,"資")/1000*0.7 -> 0 | F6: =SUMIFS(各子計畫經費!$L:$L,各子計畫經費!$G:$G,"A",各子計畫經費!$F:$F,"1",各子計畫經費!$E:$E,"108",各子計畫經費!$B:$B,"經")/1000*0.15-0.5 -> 52 | G6: =SUMIFS(各子計畫經費!$L:$L,各子計畫經費!$G:$G,"A",各子計畫經費!$F:$F,"1",各子計畫經費!$E:$E,"108",各子計畫經費!$B:$B,"資")/1000*0.15 -> 0 | L6: =D6+F6+H6+J6 -> 350 | M6: =E6+G6+I6+K6 -> 0 | N6: =SUM(L6:M6) -> 350
B7: 108-A-2 | D7: =SUMIFS(各子計畫經費!$L:$L,各子計畫經費!$G:$G,"A",各子計畫經費!$F:$F,"2",各子計畫經費!$E:$E,"108",各子計畫經費!$B:$B,"經")/1000*0.85 -> 0 | E7: =SUMIFS(各子計畫經費!$L:$L,各子計畫經費!$G:$G,"A",各子計畫經費!$F:$F,"2",各子計畫經費!$E:$E,"108",各子計畫經費!$B:$B,"資")/1000*0.7 -> 0 | F7: =SUMIFS(各子計畫經費!$L:$L,各子計畫經費!$G:$G,"A",各子計畫經費!$F:$F,"2",各子計畫經費!$E:$E,"108",各子計畫經費!$B:$B,"經")/1000*0.15 -> 0 | G7: =SUMIFS(各子計畫經費!$L:$L,各子計畫經費!$G:$G,"A",各子計畫經費!$F:$F,"2",各子計畫經費!$E:$E,"108",各子計畫經費!$B:$B,"資")/1000*0.15 -> 0 | L7: =D7+F7+H7+J7 -> 0 | M7: =E7+G7+I7+K7 -> 0 | N7: =SUM(L7:M7) -> 0
B8: 108-A-3 | D8: =SUMIFS(各子計畫經費!$L:$L,各子計畫經費!$G:$G,"A",各子計畫經費!$F:$F,"3",各子計畫經費!$E:$E,"108",各子計畫經費!$B:$B,"經")/1000*0.85 -> 0 | E8: =SUMIFS(各子計畫經費!$L:$L,各子計畫經費!$G:$G,"A",各子計畫經費!$F:$F,"3",各子計畫經費!$E:$E,"108",各子計畫經費!$B:$B,"資")/1000*0.7 -> 0 | F8: =SUMIFS(各子計畫經費!$L:$L,各子計畫經費!$G:$G,"A",各子計畫經費!$F:$F,"3",各子計畫經費!$E:$E,"108",各子計畫經費!$B:$B,"經")/1000*0.15 -> 0 | G8: =SUMIFS(各子計畫經費!$L:$L,各子計畫經費!$G:$G,"A",各子計畫經費!$F:$F,"3",各子計畫經費!$E:$E,"108",各子計畫經費!$B:$B,"資")/1000*0.3 -> 0 | L8: =D8+F8+H8+J8 -> 0 | M8: =E8+G8+I8+K8 -> 0 | N8: =SUM(L8:M8) -> 0
B9: 108-A-4 | D9: =SUMIFS(各子計畫經費!$L:$L,各子計畫經費!$G:$G,"A",各子計畫經費!$F:$F,"4",各子計畫經費!$E:$E,"108",各子計畫經費!$B:$B,"經")/1000*0.85 -> 0 | E9: =SUMIFS(各子計畫經費!$L:$L,各子計畫經費!$G:$G,"A",各子計畫經費!$F:$F,"4",各子計畫經費!$E:$E,"108",各子計畫經費!$B:$B,"資")/1000*0.7 -> 0 | F9: =SUMIFS(各子計畫經費!$L:$L,各子計畫經費!$G:$G,"A",各子計畫經費!$F:$F,"4",各子計畫經費!$E:$E,"108",各子計畫經費!$B:$B,"經")/1000*0.15 -> 0 | G9: =SUMIFS(各子計畫經費!$L:$L,各子計畫經費!$G:$G,"A",各子計畫經費!$F:$F,"4",各子計畫經費!$E:$E,"108",各子計畫經費!$B:$B,"資")/1000*0.3 -> 0 | L9: =D9+F9+H9+J9 -> 0 | M9: =E9+G9+I9+K9 -> 0 | N9: =SUM(L9:M9) -> 0
B10: 108-A-5 | D10: =SUMIFS(各子計畫經費!$L:$L,各子計畫經費!$G:$G,"A",各子計畫經費!$F:$F,"5",各子計畫經費!$E:$E,"108",各子計畫經費!$B:$B,"經")/1000*0.85 -> 0 | E10: =SUMIFS(各子計畫經費!$L:$L,各子計畫經費!$G:$G,"A",各子計畫經費!$F:$F,"5",各子計畫經費!$E:$E,"108",各子計畫經費!$B:$B,"資")/1000*0.7 -> 0 | F10: =SUMIFS(各子計畫經費!$L:$L,各子計畫經費!$G:$G,"A",各子計畫經費!$F:$F,"5",各子計畫經費!$E:$E,"108",各子計畫經費!$B:$B,"經")/1000*0.15 -> 0 | G10: =SUMIFS(各子計畫經費!$L:$L,各子計畫經費!$G:$G,"A",各子計畫經費!$F:$F,"5",各子計畫經費!$E:$E,"108",各子計畫經費!$B:$B,"資")/1000*0.3 -> 0 | L10: =D10+F10+H10+J10 -> 0 | M10: =E10+G10+I10+K10 -> 0 | N10: =SUM(L10:M10) -> 0
B11: 108-B-1 | C11: 新高學教師增能計畫 | D11: =SUMIFS(各子計畫經費!$L:$L,各子計畫經費!$G:$G,"B",各子計畫經費!$F:$F,"1",各子計畫經費!$E:$E,"108",各子計畫經費!$B:$B,"經")/1000*0.85 -> 187 | E11: =SUMIFS(各子計畫經費!$L:$L,各子計畫經費!$G:$G,"B",各子計畫經費!$F:$F,"1",各子計畫經費!$E:$E,"108",各子計畫經費!$B:$B,"資")/1000*0.85-0.5 -> 433 | F11: =SUMIFS(各子計畫經費!$L:$L,各子計畫經費!$G:$G,"B",各子計畫經費!$F:$F,"1",各子計畫經費!$E:$E,"108",各子計畫經費!$B:$B,"經")/1000*0.15 -> 33 | G11: =SUMIFS(各子計畫經費!$L:$L,各子計畫經費!$G:$G,"B",各子計畫經費!$F:$F,"1",各子計畫經費!$E:$E,"108",各子計畫經費!$B:$B,"資")/1000*0.15+0.5 -> 77 | L11: =D11+F11+H11+J11 -> 220 | M11: =E11+G11+I11+K11 -> 510 | N11: =SUM(L11:M11) -> 730
B12: 108-B-2 | C12: 探究與實作教師增能計畫 | D12: =SUMIFS(各子計畫經費!$L:$L,各子計畫經費!$G:$G,"B",各子計畫經費!$F:$F,"2",各子計畫經費!$E:$E,"108",各子計畫經費!$B:$B,"經")/1000*0.85-0.5 -> 25 | E12: =SUMIFS(各子計畫經費!$L:$L,各子計畫經費!$G:$G,"B",各子計畫經費!$F:$F,"2",各子計畫經費!$E:$E,"108",各子計畫經費!$B:$B,"資")/1000*0.7 -> 0 | F12: =SUMIFS(各子計畫經費!$L:$L,各子計畫經費!$G:$G,"B",各子計畫經費!$F:$F,"2",各子計畫經費!$E:$E,"108",各子計畫經費!$B:$B,"經")/1000*0.15+0.5 -> 5 | G12: =SUMIFS(各子計畫經費!$L:$L,各子計畫經費!$G:$G,"B",各子計畫經費!$F:$F,"2",各子計畫經費!$E:$E,"108",各子計畫經費!$B:$B,"資")/1000*0.3 -> 0 | L12: =D12+F12+H12+J12 -> 30 | M12: =E12+G12+I12+K12 -> 0 | N12: =SUM(L12:M12) -> 30
B13: 108-B-3 | D13: =SUMIFS(各子計畫經費!$L:$L,各子計畫經費!$G:$G,"B",各子計畫經費!$F:$F,"3",各子計畫經費!$E:$E,"108",各子計畫經費!$B:$B,"經")/1000*0.85 -> 0 | E13: =SUMIFS(各子計畫經費!$L:$L,各子計畫經費!$G:$G,"B",各子計畫經費!$F:$F,"3",各子計畫經費!$E:$E,"108",各子計畫經費!$B:$B,"資")/1000*0.7 -> 0 | F13: =SUMIFS(各子計畫經費!$L:$L,各子計畫經費!$G:$G,"B",各子計畫經費!$F:$F,"3",各子計畫經費!$E:$E,"108",各子計畫經費!$B:$B,"經")/1000*0.15 -> 0 | G13: =SUMIFS(各子計畫經費!$L:$L,各子計畫經費!$G:$G,"B",各子計畫經費!$F:$F,"3",各子計畫經費!$E:$E,"108",各子計畫經費!$B:$B,"資")/1000*0.3 -> 0 | L13: =D13+F13+H13+J13 -> 0 | M13: =E13+G13+I13+K13 -> 0 | N13: =SUM(L13:M13) -> 0
B14: 108-C-1 | C14: 課發會培力計畫 | D14: =SUMIFS(各子計畫經費!$L:$L,各子計畫經費!$G:$G,"C",各子計畫經費!$F:$F,"1",各子計畫經費!$E:$E,"108",各子計畫經費!$B:$B,"經")/1000*0.85 -> 17 | E14: =SUMIFS(各子計畫經費!$L:$L,各子計畫經費!$G:$G,"C",各子計畫經費!$F:$F,"1",各子計畫經費!$E:$E,"108",各子計畫經費!$B:$B,"資")/1000*0.7 -> 0 | F14: =SUMIFS(各子計畫經費!$L:$L,各子計畫經費!$G:$G,"C",各子計畫經費!$F:$F,"1",各子計畫經費!$E:$E,"108",各子計畫經費!$B:$B,"經")/1000*0.15 -> 3 | G14: =SUMIFS(各子計畫經費!$L:$L,各子計畫經費!$G:$G,"C",各子計畫經費!$F:$F,"1",各子計畫經費!$E:$E,"108",各子計畫經費!$B:$B,"資")/1000*0.3 -> 0 | L14: =D14+F14+H14+J14 -> 20 | M14: =E14+G14+I14+K14 -> 0 | N14: =SUM(L14:M14) -> 20
B15: 108-C-2 | C15: 校本及區域諮詢輔導計畫 | D15: =SUMIFS(各子計畫經費!$L:$L,各子計畫經費!$G:$G,"C",各子計畫經費!$F:$F,"2",各子計畫經費!$E:$E,"108",各子計畫經費!$B:$B,"經")/1000*0.85+0.5 -> 43 | E15: =SUMIFS(各子計畫經費!$L:$L,各子計畫經費!$G:$G,"C",各子計畫經費!$F:$F,"2",各子計畫經費!$E:$E,"108",各子計畫經費!$B:$B,"資")/1000*0.7 -> 0 | F15: =SUMIFS(各子計畫經費!$L:$L,各子計畫經費!$G:$G,"C",各子計畫經費!$F:$F,"2",各子計畫經費!$E:$E,"108",各子計畫經費!$B:$B,"經")/1000*0.15-0.5 -> 7 | G15: =SUMIFS(各子計畫經費!$L:$L,各子計畫經費!$G:$G,"C",各子計畫經費!$F:$F,"2",各子計畫經費!$E:$E,"108",各子計畫經費!$B:$B,"資")/1000*0.3 -> 0 | L15: =D15+F15+H15+J15 -> 50 | M15: =E15+G15+I15+K15 -> 0 | N15: =SUM(L15:M15) -> 50
B16: 108-C-3 | C16: 校際交流計畫 | D16: =SUMIFS(各子計畫經費!$L:$L,各子計畫經費!$G:$G,"C",各子計畫經費!$F:$F,"3",各子計畫經費!$E:$E,"108",各子計畫經費!$B:$B,"經")/1000*0.85 -> 17 | E16: =SUMIFS(各子計畫經費!$L:$L,各子計畫經費!$G:$G,"C",各子計畫經費!$F:$F,"3",各子計畫經費!$E:$E,"108",各子計畫經費!$B:$B,"資")/1000*0.7 -> 0 | F16: =SUMIFS(各子計畫經費!$L:$L,各子計畫經費!$G:$G,"C",各子計畫經費!$F:$F,"3",各子計畫經費!$E:$E,"108",各子計畫經費!$B:$B,"經")/1000*0.15 -> 3 | G16: =SUMIFS(各子計畫經費!$L:$L,各子計畫經費!$G:$G,"C",各子計畫經費!$F:$F,"3",各子計畫經費!$E:$E,"108",各子計畫經費!$B:$B,"資")/1000*0.3 -> 0 | L16: =D16+F16+H16+J16 -> 20 | M16: =E16+G16+I16+K16 -> 0 | N16: =SUM(L16:M16) -> 20
B17: 108-D-1 | C17: 開放硬體(mBot課程) 計劃 | D17: =SUMIFS(各子計畫經費!$L:$L,各子計畫經費!$G:$G,"D",各子計畫經費!$F:$F,"1",各子計畫經費!$E:$E,"108",各子計畫經費!$B:$B,"經")/1000*0.85 -> 85 | E17: =SUMIFS(各子計畫經費!$L:$L,各子計畫經費!$G:$G,"D",各子計畫經費!$F:$F,"1",各子計畫經費!$E:$E,"108",各子計畫經費!$B:$B,"資")/1000*0.85 -> 34 | F17: =SUMIFS(各子計畫經費!$L:$L,各子計畫經費!$G:$G,"D",各子計畫經費!$F:$F,"1",各子計畫經費!$E:$E,"108",各子計畫經費!$B:$B,"經")/1000*0.15 -> 15 | G17: =SUMIFS(各子計畫經費!$L:$L,各子計畫經費!$G:$G,"D",各子計畫經費!$F:$F,"1",各子計畫經費!$E:$E,"108",各子計畫經費!$B:$B,"資")/1000*0.15 -> 6 | L17: =D17+F17+H17+J17 -> 100 | M17: =E17+G17+I17+K17 -> 40 | N17: =SUM(L17:M17) -> 140
B18: 108-D-2 | C18: 幸福新高─就近入學計畫 | D18: =SUMIFS(各子計畫經費!$L:$L,各子計畫經費!$G:$G,"D",各子計畫經費!$F:$F,"2",各子計畫經費!$E:$E,"108",各子計畫經費!$B:$B,"經")/1000*0.85 -> 0 | E18: =SUMIFS(各子計畫經費!$L:$L,各子計畫經費!$G:$G,"D",各子計畫經費!$F:$F,"2",各子計畫經費!$E:$E,"108",各子計畫經費!$B:$B,"資")/1000*0.7 -> 0 | F18: =SUMIFS(各子計畫經費!$L:$L,各子計畫經費!$G:$G,"D",各子計畫經費!$F:$F,"2",各子計畫經費!$E:$E,"108",各子計畫經費!$B:$B,"經")/1000*0.15 -> 0 | G18: =SUMIFS(各子計畫經費!$L:$L,各子計畫經費!$G:$G,"D",各子計畫經費!$F:$F,"2",各子計畫經費!$E:$E,"108",各子計畫經費!$B:$B,"資")/1000*0.3 -> 0 | L18: =D18+F18+H18+J18 -> 0 | M18: =E18+G18+I18+K18 -> 0 | N18: =SUM(L18:M18) -> 0
A19: 108會計年度合計 | D19: =SUM(D6:D18) -> 672 | E19: =SUM(E6:E18) -> 467 | F19: =SUM(F6:F18) -> 118 | G19: =SUM(G6:G18) -> 83 | H19: =SUM(H6:H18) -> 0 | I19: =SUM(I6:I18) -> 0 | J19: =SUM(J6:J18) -> 0 | K19: =SUM(K6:K18) -> 0 | ... M19: =SUM(M6:M18) -> 550 | N19: =L19+M19 -> 1340
A20: 109會計年度︵108學年下學期︶ | B20: 108-A-1 | C20: 新課綱課程總體發展計畫 | D20: =SUMIFS(各子計畫經費!$L:$L,各子計畫經費!$G:$G,"A",各子計畫經費!$F:$F,"1",各子計畫經費!$E:$E,"109",各子計畫經費!$B:$B,"經")/1000*0.85 -> 85 | E20: =SUMIFS(各子計畫經費!$L:$L,各子計畫經費!$G:$G,"A",各子計畫經費!$F:$F,"1",各子計畫經費!$E:$E,"109",各子計畫經費!$B:$B,"資")/1000 -> 0 | F20: =SUMIFS(各子計畫經費!$L:$L,各子計畫經費!$G:$G,"A",各子計畫經費!$F:$F,"1",各子計畫經費!$E:$E,"109",各子計畫經費!$B:$B,"經")/1000*0.15 -> 15 | G20: =SUMIFS(各子計畫經費!$L:$L,各子計畫經費!$G:$G,"A",各子計畫經費!$F:$F,"1",各子計畫經費!$E:$E,"109",各子計畫經費!$B:$B,"資")/1000 -> 0 | L20: =D20+F20+H20+J20 -> 100 | M20: =E20+G20+I20+K20 -> 0 | N20: =SUM(L20:M20) -> 100
B21: 108-A-2 | D21: =SUMIFS(各子計畫經費!$L:$L,各子計畫經費!$G:$G,"A",各子計畫經費!$F:$F,"2",各子計畫經費!$E:$E,"109",各子計畫經費!$B:$B,"經")/1000*0.7 -> 0 | E21: =SUMIFS(各子計畫經費!$L:$L,各子計畫經費!$G:$G,"A",各子計畫經費!$F:$F,"2",各子計畫經費!$E:$E,"109",各子計畫經費!$B:$B,"資")/1000 -> 0 | F21: =SUMIFS(各子計畫經費!$L:$L,各子計畫經費!$G:$G,"A",各子計畫經費!$F:$F,"2",各子計畫經費!$E:$E,"109",各子計畫經費!$B:$B,"經")/1000*0.15 -> 0 | G21: =SUMIFS(各子計畫經費!$L:$L,各子計畫經費!$G:$G,"A",各子計畫經費!$F:$F,"2",各子計畫經費!$E:$E,"109",各子計畫經費!$B:$B,"資")/1000 -> 0 | L21: =D21+F21+H21+J21 -> 0 | M21: =E21+G21+I21+K21 -> 0 | N21: =SUM(L21:M21) -> 0
B22: 108-A-3 | D22: =SUMIFS(各子計畫經費!$L:$L,各子計畫經費!$G:$G,"A",各子計畫經費!$F:$F,"3",各子計畫經費!$E:$E,"109",各子計畫經費!$B:$B,"經")/1000*0.7 -> 0 | E22: =SUMIFS(各子計畫經費!$L:$L,各子計畫經費!$G:$G,"A",各子計畫經費!$F:$F,"3",各子計畫經費!$E:$E,"109",各子計畫經費!$B:$B,"資")/1000 -> 0 | F22: =SUMIFS(各子計畫經費!$L:$L,各子計畫經費!$G:$G,"A",各子計畫經費!$F:$F,"3",各子計畫經費!$E:$E,"109",各子計畫經費!$B:$B,"經")/1000*0.15 -> 0 | G22: =SUMIFS(各子計畫經費!$L:$L,各子計畫經費!$G:$G,"A",各子計畫經費!$F:$F,"3",各子計畫經費!$E:$E,"109",各子計畫經費!$B:$B,"資")/1000 -> 0 | L22: =D22+F22+H22+J22 -> 0 | M22: =E22+G22+I22+K22 -> 0 | N22: =SUM(L22:M22) -> 0
B23: 108-A-4 | D23: =SUMIFS(各子計畫經費!$L:$L,各子計畫經費!$G:$G,"A",各子計畫經費!$F:$F,"4",各子計畫經費!$E:$E,"109",各子計畫經費!$B:$B,"經")/1000*0.7 -> 0 | E23: =SUMIFS(各子計畫經費!$L:$L,各子計畫經費!$G:$G,"A",各子計畫經費!$F:$F,"4",各子計畫經費!$E:$E,"109",各子計畫經費!$B:$B,"資")/1000 -> 0 | F23: =SUMIFS(各子計畫經費!$L:$L,各子計畫經費!$G:$G,"A",各子計畫經費!$F:$F,"4",各子計畫經費!$E:$E,"109",各子計畫經費!$B:$B,"經")/1000*0.15 -> 0 | G23: =SUMIFS(各子計畫經費!$L:$L,各子計畫經費!$G:$G,"A",各子計畫經費!$F:$F,"4",各子計畫經費!$E:$E,"109",各子計畫經費!$B:$B,"資")/1000 -> 0 | L23: =D23+F23+H23+J23 -> 0 | M23: =E23+G23+I23+K23 -> 0 | N23: =SUM(L23:M23) -> 0
B24: 108-A-5 | D24: =SUMIFS(各子計畫經費!$L:$L,各子計畫經費!$G:$G,"A",各子計畫經費!$F:$F,"5",各子計畫經費!$E:$E,"109",各子計畫經費!$B:$B,"經")/1000*0.7 -> 0 | E24: =SUMIFS(各子計畫經費!$L:$L,各子計畫經費!$G:$G,"A",各子計畫經費!$F:$F,"5",各子計畫經費!$E:$E,"109",各子計畫經費!$B:$B,"資")/1000 -> 0 | F24: =SUMIFS(各子計畫經費!$L:$L,各子計畫經費!$G:$G,"A",各子計畫經費!$F:$F,"5",各子計畫經費!$E:$E,"109",各子計畫經費!$B:$B,"經")/1000*0.15 -> 0 | G24: =SUMIFS(各子計畫經費!$L:$L,各子計畫經費!$G:$G,"A",各子計畫經費!$F:$F,"5",各子計畫經費!$E:$E,"109",各子計畫經費!$B:$B,"資")/1000 -> 0 | L24: =D24+F24+H24+J24 -> 0 | M24: =E24+G24+I24+K24 -> 0 | N24: =SUM(L24:M24) -> 0
B25: 108-B-1 | C25: 新高學教師增能計畫 | D25: =SUMIFS(各子計畫經費!$L:$L,各子計畫經費!$G:$G,"B",各子計畫經費!$F:$F,"1",各子計畫經費!$E:$E,"109",各子計畫經費!$B:$B,"經")/1000*0.85 -> 187 | E25: =SUMIFS(各子計畫經費!$L:$L,各子計畫經費!$G:$G,"B",各子計畫經費!$F:$F,"1",各子計畫經費!$E:$E,"109",各子計畫經費!$B:$B,"資")/1000 -> 0 | F25: =SUMIFS(各子計畫經費!$L:$L,各子計畫經費!$G:$G,"B",各子計畫經費!$F:$F,"1",各子計畫經費!$E:$E,"109",各子計畫經費!$B:$B,"經")/1000*0.15 -> 33 | G25: =SUMIFS(各子計畫經費!$L:$L,各子計畫經費!$G:$G,"B",各子計畫經費!$F:$F,"1",各子計畫經費!$E:$E,"109",各子計畫經費!$B:$B,"資")/1000 -> 0 | L25: =D25+F25+H25+J25 -> 220 | M25: =E25+G25+I25+K25 -> 0 | N25: =SUM(L25:M25) -> 220
B26: 108-B-2 | C26: 探究與實作教師增能計畫 | D26: =SUMIFS(各子計畫經費!$L:$L,各子計畫經費!$G:$G,"B",各子計畫經費!$F:$F,"2",各子計畫經費!$E:$E,"109",各子計畫經費!$B:$B,"經")/1000*0.85-0.5 -> 25 | E26: =SUMIFS(各子計畫經費!$L:$L,各子計畫經費!$G:$G,"B",各子計畫經費!$F:$F,"2",各子計畫經費!$E:$E,"109",各子計畫經費!$B:$B,"資")/1000 -> 0 | F26: =SUMIFS(各子計畫經費!$L:$L,各子計畫經費!$G:$G,"B",各子計畫經費!$F:$F,"2",各子計畫經費!$E:$E,"109",各子計畫經費!$B:$B,"經")/1000*0.15+0.5 -> 5 | G26: =SUMIFS(各子計畫經費!$L:$L,各子計畫經費!$G:$G,"B",各子計畫經費!$F:$F,"2",各子計畫經費!$E:$E,"109",各子計畫經費!$B:$B,"資")/1000 -> 0 | L26: =D26+F26+H26+J26 -> 30 | M26: =E26+G26+I26+K26 -> 0 | N26: =SUM(L26:M26) -> 30
B27: 108-B-3 | D27: =SUMIFS(各子計畫經費!$L:$L,各子計畫經費!$G:$G,"B",各子計畫經費!$F:$F,"3",各子計畫經費!$E:$E,"109",各子計畫經費!$B:$B,"經")/1000*0.7 -> 0 | E27: =SUMIFS(各子計畫經費!$L:$L,各子計畫經費!$G:$G,"B",各子計畫經費!$F:$F,"3",各子計畫經費!$E:$E,"109",各子計畫經費!$B:$B,"資")/1000 -> 0 | F27: =SUMIFS(各子計畫經費!$L:$L,各子計畫經費!$G:$G,"B",各子計畫經費!$F:$F,"3",各子計畫經費!$E:$E,"109",各子計畫經費!$B:$B,"經")/1000*0.15 -> 0 | G27: =SUMIFS(各子計畫經費!$L:$L,各子計畫經費!$G:$G,"B",各子計畫經費!$F:$F,"3",各子計畫經費!$E:$E,"109",各子計畫經費!$B:$B,"資")/1000 -> 0 | L27: =D27+F27+H27+J27 -> 0 | M27: =E27+G27+I27+K27 -> 0 | N27: =SUM(L27:M27) -> 0
B28: 108-C-1 | C28: 課發會培力計畫 | D28: =SUMIFS(各子計畫經費!$L:$L,各子計畫經費!$G:$G,"C",各子計畫經費!$F:$F,"1",各子計畫經費!$E:$E,"109",各子計畫經費!$B:$B,"經")/1000*0.85 -> 17 | E28: =SUMIFS(各子計畫經費!$L:$L,各子計畫經費!$G:$G,"C",各子計畫經費!$F:$F,"1",各子計畫經費!$E:$E,"109",各子計畫經費!$B:$B,"資")/1000 -> 0 | F28: =SUMIFS(各子計畫經費!$L:$L,各子計畫經費!$G:$G,"C",各子計畫經費!$F:$F,"1",各子計畫經費!$E:$E,"109",各子計畫經費!$B:$B,"經")/1000*0.15 -> 3 | G28: =SUMIFS(各子計畫經費!$L:$L,各子計畫經費!$G:$G,"C",各子計畫經費!$F:$F,"1",各子計畫經費!$E:$E,"109",各子計畫經費!$B:$B,"資")/1000 -> 0 | L28: =D28+F28+H28+J28 -> 20 | M28: =E28+G28+I28+K28 -> 0 | N28: =SUM(L28:M28) -> 20
B29: 108-C-2 | C29: 校本及區域諮詢輔導計畫 | D29: =SUMIFS(各子計畫經費!$L:$L,各子計畫經費!$G:$G,"C",各子計畫經費!$F:$F,"2",各子計畫經費!$E:$E,"109",各子計畫經費!$B:$B,"經")/1000*0.85+0.5 -> 43 | E29: =SUMIFS(各子計畫經費!$L:$L,各子計畫經費!$G:$G,"C",各子計畫經費!$F:$F,"2",各子計畫經費!$E:$E,"109",各子計畫經費!$B:$B,"資")/1000 -> 0 | F29: =SUMIFS(各子計畫經費!$L:$L,各子計畫經費!$G:$G,"C",各子計畫經費!$F:$F,"2",各子計畫經費!$E:$E,"109",各子計畫經費!$B:$B,"經")/1000*0.15-0.5 -> 7 | G29: =SUMIFS(各子計畫經費!$L:$L,各子計畫經費!$G:$G,"C",各子計畫經費!$F:$F,"2",各子計畫經費!$E:$E,"109",各子計畫經費!$B:$B,"資")/1000 -> 0 | L29: =D29+F29+H29+J29 -> 50 | M29: =E29+G29+I29+K29 -> 0 | N29: =SUM(L29:M29) -> 50
B30: 108-C-3 | C30: 校際交流計畫 | D30: =SUMIFS(各子計畫經費!$L:$L,各子計畫經費!$G:$G,"C",各子計畫經費!$F:$F,"3",各子計畫經費!$E:$E,"109",各子計畫經費!$B:$B,"經")/1000*0.85 -> 17 | E30: =SUMIFS(各子計畫經費!$L:$L,各子計畫經費!$G:$G,"C",各子計畫經費!$F:$F,"3",各子計畫經費!$E:$E,"109",各子計畫經費!$B:$B,"資")/1000 -> 0 | F30: =SUMIFS(各子計畫經費!$L:$L,各子計畫經費!$G:$G,"C",各子計畫經費!$F:$F,"3",各子計畫經費!$E:$E,"109",各子計畫經費!$B:$B,"經")/1000*0.15 -> 3 | G30: =SUMIFS(各子計畫經費!$L:$L,各子計畫經費!$G:$G,"C",各子計畫經費!$F:$F,"3",各子計畫經費!$E:$E,"109",各子計畫經費!$B:$B,"資")/1000 -> 0 | L30: =D30+F30+H30+J30 -> 20 | M30: =E30+G30+I30+K30 -> 0 | N30: =SUM(L30:M30) -> 20
B31: 108-D-1 | C31: 開放硬體(mBot課程) 計劃 | D31: =SUMIFS(各子計畫經費!$L:$L,各子計畫經費!$G:$G,"D",各子計畫經費!$F:$F,"1",各子計畫經費!$E:$E,"109",各子計畫經費!$B:$B,"經")/1000*0.7 -> 0 | E31: =SUMIFS(各子計畫經費!$L:$L,各子計畫經費!$G:$G,"D",各子計畫經費!$F:$F,"1",各子計畫經費!$E:$E,"109",各子計畫經費!$B:$B,"資")/1000 -> 0 | F31: =SUMIFS(各子計畫經費!$L:$L,各子計畫經費!$G:$G,"D",各子計畫經費!$F:$F,"1",各子計畫經費!$E:$E,"109",各子計畫經費!$B:$B,"經")/1000*0.15 -> 0 | G31: =SUMIFS(各子計畫經費!$L:$L,各子計畫經費!$G:$G,"D",各子計畫經費!$F:$F,"1",各子計畫經費!$E:$E,"109",各子計畫經費!$B:$B,"資")/1000 -> 0 | L31: =D31+F31+H31+J31 -> 0 | M31: =E31+G31+I31+K31 -> 0 | N31: =SUM(L31:M31) -> 0
B32: 108-D-2 | C32: 幸福新高─就近入學計畫 | D32: =SUMIFS(各子計畫經費!$L:$L,各子計畫經費!$G:$G,"D",各子計畫經費!$F:$F,"2",各子計畫經費!$E:$E,"109",各子計畫經費!$B:$B,"經")/1000*0.85 -> 187 | E32: =SUMIFS(各子計畫經費!$L:$L,各子計畫經費!$G:$G,"D",各子計畫經費!$F:$F,"2",各子計畫經費!$E:$E,"109",各子計畫經費!$B:$B,"資")/1000 -> 0 | F32: =SUMIFS(各子計畫經費!$L:$L,各子計畫經費!$G:$G,"D",各子計畫經費!$F:$F,"2",各子計畫經費!$E:$E,"109",各子計畫經費!$B:$B,"經")/1000*0.15 -> 33 | G32: =SUMIFS(各子計畫經費!$L:$L,各子計畫經費!$G:$G,"D",各子計畫經費!$F:$F,"2",各子計畫經費!$E:$E,"109",各子計畫經費!$B:$B,"資")/1000 -> 0 | L32: =D32+F32+H32+J32 -> 220 | M32: =E32+G32+I32+K32 -> 0 | N32: =SUM(L32:M32) -> 220
A33: 109會計年度合計 | D33: =SUM(D20:D32) -> 561 | E33: =SUM(E20:E32) -> 0 | F33: =SUM(F20:F32) -> 99 | G33: =SUM(G20:G32) -> 0 | H33: =SUM(H20:H32) -> 0 | I33: =SUM(I20:I32) -> 0 | J33: =SUM(J20:J32) -> 0 | K33: =SUM(K20:K32) -> 0 | ... M33: =SUM(M20:M32) -> 0 | N33: =L33+M33 -> 660
A34: 108全學年合計 | D34: =D19+D33 -> 1233 | E34: =E19+E33 -> 467 | F34: =F19+F33 -> 217 | G34: =G19+G33 -> 83 | H34: =H19+H33 -> 0 | I34: =I19+I33 -> 0 | J34: =J19+J33 -> 0 | K34: =K19+K33 -> 0 | ... N34: =N19+N33 -> 2000
A35: 經資門比例 | L35: =L34/N34 -> 0.725 | M35: =M34/N34 -> 0.275
A36: 說明： 1. 經資門比例：經常門= 經常門總額/全學年合計；資本門= 資本門總額/全學年合計。
A37: 2. 年度經常門、資本門合計經費請配合國教署核定金額。
A38: 3. 隸屬縣市政府的學校，請依國教署補助比例和核定金額編列配合款。
B39: 4. 優質化專案補助款：指的是教育部的補助款
B40: 5. 經資門比例以1：1為原則。
...

Sheet y-3-1 (A-1)
A1: 表y-3-1 新屋高中優質化年度子計畫經費概算表(8-12月)
A3: 子計畫代碼:A-1
A4: 子計畫名稱:新課綱課程總體發展計畫 | G4: 單位：仟元
A5: 108會計年度概算表(8-12月)
A6: 名稱(下拉式選單) | C6: 單位 | D6: 數量 | E6: 單價 | F6: 總價 | G6: 說明用途 | H6: 經費來源
A7: (一)經常門
A8: 業務費 | B8: 講座鐘點費(外聘) | C8: 節 | D8: 14 | E8: 2 | F8: =D8*E8 -> 28 | G8: A-1：走遍古今中外去過節講座*2節，新屋走透透(地方文史工作者講授課程*4節，地理專業講師於地理實察前對學生講授專業課程*4節，地理專業講師實察鐘點費*4節)。
B9: 授課鐘點費 | C9: 節 | D9: 30 | E9: 0.4 | F9: =D9*E9 -> 12 | G9: A-1：新屋走透透(地理實察5名帶隊教師當日課務（每人以6節計)委由其他教師代課之鐘點費。(本校位於觀新藻礁區內，希望能將地理實察聚焦成為特色活動，但因學校教師人數少課務多，帶全校學生出門之教師課務皆須調課處理，不利活動進行，故編列此項鐘點費。)
B10: 授課鐘點費 | C10: 節 | D10: 40 | E10: 0.55 | F10: =D10*E10 -> 22 | G10: A-1：假日辦理東南亞體驗活動*6節、移工交流活動*6節、走遍古今中外去過節活動*8節(協同教學)。
B11: 印刷費 | C11: 份 | D11: 30 | E11: 0.09 | F11: =D11*E11 -> 2.7 | G11: A-1：新屋走透透印刷費。(地方文史教材30份*30元，新屋踏查教材及手冊30份*30元，地理實察之教材及手冊30份*30元)
B12: 國內旅費 | C12: 人次 | D12: 2 | E12: 0.32 | F12: =D12*E12 -> 0.64 | G12: A-1：新屋走透透(地理領域專業講師(2次)往返台北桃園高鐵車票320/次)
B13: 膳宿費 | C13: 人日 | D13: 31 | E13: 0.08 | F13: =D13*E13 -> 2.48 | G13: A-1：新屋走透透(地理實察午餐*31人)
B14: 租車費 | C14: 輛 | D14: 4 | E14: 12 | F14: =D14*E14 -> 48 | G14: A-1：走遍古今中外去過節:台中遊覽車一台。世界公民選修課東南亞體驗活動桃園遊覽車一台、移工交流活動鶯歌遊覽車一台。新屋走透透(地理實察遊覽車*1台)
B15: 材料費 | C15: 人次 | D15: 240 | E15: 0.2 | F15: =D15*E15 -> 48 | G15: A-1：多元選修材料費(新屋走透透地理實察材料*30人次)(世界公民東南亞體驗活動材料*20人次、移工交流活動材料*20人次)(新屋星事*50)(其它多元選修*40人次)(探究與實作分子料理費*80人次)
B16: 物品費 | C16: 支 | D16: 1 | E16: 5 | F16: =D16*E16 -> 5 | G16: A-1：舒肥機(探究實作課程用)
B17: 物品費 | C17: 支 | D17: 1 | E17: 2 | F17: =D17*E17 -> 2 | G17: A-1：食物料理棒(探究實作課程用)
B18: 物品費 | C18: 支 | D18: 1 | E18: 1 | F18: =D18*E18 -> 1 | G18: A-1：簡報筆R400(多元選修向大師致敬)
B19: 物品費 | C19: 支 | D19: 1 | E19: 4 | F19: =D19*E19 -> 4 | G19: A-1：錄音筆(多元選修課程共用)
B20: 物品費 | C20: 支 | D20: 2 | E20: 3.5 | F20: =D20*E20 -> 7 | G20: A-1：指星用雷射筆(多元選修新屋星事使用)
... B36: 雜支 | C36: 式 | D36: 1 | E36: 5.94 | F36: =D36*E36 -> 5.94 | G36: A-1：校定必修、探究與實作及多元選修雜支(電池、文具、紙張、耗材、手寫板、雨衣、飲用水、急救包...等)
B37: 小計 | F37: =SUM(F8:F36) -> 350
A38: 獎補助費
B39: 小計
A40: 經常門小計 | F40: =SUM(F39,F37) -> 350
A41: (二)資本門
A42: 設備及投資
A44: 資本門小計 | F44: =SUM(F42:F43) -> 0
A45: 108會計年度合計 | F45: =SUM(F40,F44) -> 350
A46: 承辦人: 承辦主任: 主計主任: 校長:
A48: 說明：1. 子計畫表單可自行增加。
A49: 2.說明用途欄請勿空白，請簡略描述。
A50: 3.計畫書PDF檔的經費表需核章。
A51: 4.年度經費概算表排版編列請依上下學期放一起，以利審查。(Ex：A-1 8-12月，接A-1 1-7月)
A52: 5.經費來源欄由學校視需求填列

Sheet y-3-2 (A-1)
A1: 表y-3-2 新屋高中優質化年度子計畫經費概算表(1-7月)
A3: 子計畫代碼:A-1
A4: 子計畫名稱:新課綱課程總體發展計畫 | G4: 單位：仟元
A5: 109會計年度概算表(1-7月)
A6: 名稱(下拉式選單) | C6: 單位 | D6: 數量 | E6: 單價 | F6: 總價 | G6: 說明用途 | H6: 經費來源
A7: (一)經常門
A8: 業務費 | B8: 授課鐘點費 | C8: 節 | D8: 40 | E8: 0.55 | F8: =D8*E8 -> 22 | G8: A-1：假日辦理東南亞體驗活動*6節、移工交流活動*6節、走遍古今中外去過節活動*8節(協同教學)。
B9: 租車費 | C9: 輛 | D9: 3 | E9: 12 | F9: =D9*E9 -> 36 | G9: A-1：走遍古今中外去過節:台中遊覽車一台。世界公民選修課東南亞體驗活動桃園遊覽車一台、移工交流活動鶯歌遊覽車一台。
B10: 材料費 | C10: 支 | D10: 150 | E10: 0.2 | F10: =D10*E10 -> 30 | G10: A-1：多元選修材料費(世界公民東南亞體驗活動材料*20人次、移工交流活動材料*20人次)(新屋星事*50)(其它多元選修*60人次)
B11: 保險費 | C11: 人 | D11: 60 | E11: 0.03 | F11: =D11*E11 -> 1.8 | G11: A-1：東南亞體驗活動、移工交流、走遍古今中外去過節
B12: 場地使用費 | C12: 次 | D12: 1 | E12: 3 | F12: =D12*E12 -> 3 | G12: A-1：東南亞書店場地費
B13: 工讀費 | C13: 小時 | D13: 4 | E13: 0.15 | F13: =D13*E13 -> 0.6 | G13: A-1：東南亞體驗活動及移工交流活動工讀生4人*1小時
B14: 全民健康保險補充保費 | C14: 式 | D14: 1 | E14: 0.42 | F14: =D14*E14 -> 0.42 | G14: A-1：二代健保
B15: 雜支 | C15: 式 | D15: 1 | E15: 6.18 | F15: =D15*E15 -> 6.18 | G15: A-1：校定必修、探究與實作及多元選修雜支(電池、文具、紙張、耗材、手寫板...等)
B18: 小計 | F18: =SUM(F3:F17) -> 100
A19: 獎補助費
B23: 小計
A24: 經常門小計 | F24: =SUM(F23,F18) -> 100
A25: (二)資本門
A26: 設備及投資
A31: 資本門小計 | F31: =SUM(F26:F30) -> 0
A32: 109會計年度合計 | F32: =SUM(F24,F31) -> 100
A33: 承辦人: 承辦主任: 主計主任: 校長:
A35: 說明：1. 子計畫表單可自行增加。
A36: 2.說明用途欄請勿空白，請簡略描述。
A37: 3.計畫書PDF檔的經費表需核章。
A38: 4.年度經費概算表排版編列請依上下學期放一起，以利審查。(Ex：A-1 8-12月，接A-1 1-7月)
A39: 5.經費來源欄由學校視需求填列

Sheet y-3-1 (B-1)
A1: 表y-3-1 新屋高中優質化年度子計畫經費概算表(8-12月)
A3: 子計畫代碼:B-1
A4: 子計畫名稱:「新高學」教師增能計畫 | G4: 單位：仟元
A5: 108會計年度概算表(8-12月)
A6: 名稱(下拉式選單) | C6: 單位 | D6: 數量 | E6: 單價 | F6: 總價 | G6: 說明用途 | H6: 經費來源
A7: (一)經常門
A8: 業務費 | B8: 講座鐘點費(內聘) | C8: 節 | D8: 20 | E8: 1 | F8: =D8*E8 -> 20 | G8: B-1健康身心靈社群研習*20節(探索與體驗課程、趣味品生活、旅遊規劃、陶藝課程、攝影課程、味覺挑動、甜點製作、身心靈保健、HIT新高好客人、舞動人生、心靈饗宴等)
B9: 講座鐘點費(外聘) | C9: 節 | D9: 32 | E9: 2 | F9: =D9*E9 -> 64 | G9: B-1健康身心靈社群研習*24節，科技新人文社群*4節，國際大視野社群研習*4節)
B10: 講座助理鐘點費 | C10: 節 | D10: 20 | E10: 1 | F10: =D10*E10 -> 20 | G10: B-1健康身心靈社群研習*20節
B11: 授課鐘點費 | C11: 節 | D11: 12 | E11: 0.4 | F11: =D11*E11 -> 4.8 | G11: B-1健康身心靈社群研習*4節，科技新人文社群研習*4節，國際大視野社群研習*4節
B12: 授課鐘點費 | C12: 節 | D12: 20 | E12: 0.55 | F12: =D12*E12 -> 11 | G12: B-1健康身心靈社群研習*20節，
B13: 印刷費 | C13: 份 | D13: 60 | E13: 0.03 | F13: =D13*E13 -> 1.8 | G13: B-1 社群研習講義60份*30元
B14: 國內旅費 | C14: 人次 | D14: 8 | E14: 1 | F14: =D14*E14 -> 8 | G14: B-1 社群研習講師交通費
B15: 膳宿費 | C15: 人日 | D15: 100 | E15: 0.08 | F15: =D15*E15 -> 8 | G15: B-2 社群研習100人次*80元
B16: 租車費 | C16: 輛 | D16: 2 | E16: 12 | F16: =D16*E16 -> 24 | G16: B-1健康身心靈探索體驗研習*2台
B17: 材料費 | C17: 人次 | D17: 185 | E17: 0.2 | F17: =D17*E17 -> 37 | G17: B-1 研習材料費185人次*200元
B18: 保險費 | C18: 人 | D18: 40 | E18: 0.07 | F18: =D18*E18 -> 2.8 | G18: B-1健康身心靈探索體驗研習
B19: 場地使用費 | C19: 次 | D19: 2 | E19: 6 | F19: =D19*E19 -> 12 | G19: B-1健康身心靈探索體驗研習
B20: 全民健康保險補充保費 | C20: 式 | D20: 1 | E20: 1.55 | F20: =D20*E20 -> 1.55 | G20: B-1二代健保
B21: 雜支 | C21: 式 | D21: 1 | E21: 5.05 | F21: =D21*E21 -> 5.05 | G21: B-1 教師社群研習文具紙張耗材等
B22: 小計 | F22: =SUM(F8:F21) -> 220
A23: 獎補助費
B24: 小計
A25: 經常門小計 | F25: =SUM(F24,F22) -> 220
A26: (二)資本門
A27: 設備及投資 | B27: 雷射切割機 | C27: 台 | D27: 1 | E27: 164 | F27: =D27*E27 -> 164 | G27: 本校空間雖不足，但奉局指示將設立生活科技教室，因應高中科技及藝術領域實作課程及國中生活領域之機電整合課程，購置雷射切割機，除了藝能領域課程用途外，也可用於各學科創客活動使用。
B28: 煙塵淨化機 | C28: 台 | D28: 1 | E28: 40 | F28: =D28*E28 -> 40 | G28: 雷射切割煙塵過濾淨化使用
B29: 桌上型電腦 | C29: 組 | D29: 1 | E29: 30 | F29: =D29*E29 -> 30 | G29: 實驗室用，主機含螢幕、鍵盤、滑鼠
B30: 筆記型電腦 | C30: 臺 | D30: 6 | E30: 30 | F30: =D30*E30 -> 180 | G30: 因本校為完全中學，高中部剛成立第二年，教室內都沒有電腦，但教師授課使用電腦頻率很高，目前因新建校舍尚未完工，故沒有多餘空間可以擺桌上型電腦，採用6大領域各配1台筆電以供授課及教師社群使用。
B31: 動力機構氣壓套件組 | C31: 套 | D31: 8 | E31: 12 | F31: =D31*E31 -> 96 | G31: 搭配生活領域機電整合課程使用
A34: 資本門小計 | F34: =SUM(F27:F33) -> 510
A35: 108會計年度合計 | F35: =SUM(F25,F34) -> 730
A36: 承辦人: 承辦主任: 主計主任: 校長:
A38: 說明：1. 子計畫表單可自行增加。
A39: 2.說明用途欄請勿空白，請簡略描述。
A40: 3.計畫書PDF檔的經費表需核章。
A41: 4.年度經費概算表排版編列請依上下學期放一起，以利審查。(Ex：A-1 8-12月，接A-1 1-7月)
A42: 5.經費來源欄由學校視需求填列

Sheet y-3-2 (B-1)
A1: 表y-3-2 新屋高中優質化年度子計畫經費概算表(1-7月)
A3: 子計畫代碼:B-1
A4: 子計畫名稱:「新高學」教師增能計畫 | G4: 單位：仟元
A5: 109會計年度概算表(1-7月)
A6: 名稱(下拉式選單) | C6: 單位 | D6: 數量 | E6: 單價 | F6: 總價 | G6: 說明用途 | H6: 經費來源
A7: (一)經常門
A8: 業務費 | B8: 講座鐘點費(內聘) | C8: 節 | D8: 20 | E8: 1 | F8: =D8*E8 -> 20 | G8: B-1健康身心靈社群研習*20節(探索與體驗課程、趣味品生活、旅遊規劃、陶藝課程、攝影課程、味覺挑動、甜點製作、身心靈保健、HIT新高好客人、舞動人生、心靈饗宴等)
B9: 講座鐘點費(外聘) | C9: 節 | D9: 32 | E9: 2 | F9: =D9*E9 -> 64 | G9: B-1健康身心靈社群研習*24節，科技新人文社群*4節，國際大視野社群研習*4節)
B10: 講座助理鐘點費 | C10: 節 | D10: 20 | E10: 1 | F10: =D10*E10 -> 20 | G10: B-1健康身心靈社群研習*20節
B11: 授課鐘點費 | C11: 節 | D11: 12 | E11: 0.4 | F11: =D11*E11 -> 4.8 | G11: B-1健康身心靈社群研習*4節，科技新人文社群研習*4節，國際大視野社群研習*4節
B12: 授課鐘點費 | C12: 節 | D12: 20 | E12: 0.55 | F12: =D12*E12 -> 11 | G12: B-1健康身心靈社群研習*20節，
B13: 印刷費 | C13: 份 | D13: 60 | E13: 0.03 | F13: =D13*E13 -> 1.8 | G13: B-1 社群研習講義60份*30元
B14: 國內旅費 | C14: 人次 | D14: 8 | E14: 1 | F14: =D14*E14 -> 8 | G14: B-1 社群研習講師交通費
B15: 膳宿費 | C15: 人日 | D15: 100 | E15: 0.08 | F15: =D15*E15 -> 8 | G15: B-2 社群研習100人次*80元
B16: 租車費 | C16: 輛 | D16: 2 | E16: 12 | F16: =D16*E16 -> 24 | G16: B-1健康身心靈探索體驗研習*2台
B17: 材料費 | C17: 人次 | D17: 185 | E17: 0.2 | F17: =D17*E17 -> 37 | G17: B-1 研習材料費185人次*200元
B18: 保險費 | C18: 人 | D18: 40 | E18: 0.07 | F18: =D18*E18 -> 2.8 | G18: B-1健康身心靈探索體驗研習
B19: 場地使用費 | C19: 次 | D19: 2 | E19: 6 | F19: =D19*E19 -> 12 | G19: B-1健康身心靈探索體驗研習
B20: 全民健康保險補充保費 | C20: 式 | D20: 1 | E20: 1.55 | F20: =D20*E20 -> 1.55 | G20: B-1二代健保
B21: 雜支 | C21: 式 | D21: 1 | E21: 5.05 | F21: =D21*E21 -> 5.05 | G21: B-1 教師社群研習文具紙張耗材等
B22: 小計 | F22: =SUM(F3:F21) -> 220
A23: 獎補助費
B25: 小計
A26: 經常門小計 | F26: =SUM(F25,F22) -> 220
A27: (二)資本門
A28: 設備及投資
A33: 資本門小計 | F33: =SUM(F28:F32) -> 0
A34: 109會計年度合計 | F34: =SUM(F26,F33) -> 220
A35: 承辦人: 承辦主任: 主計主任: 校長:
A37: 說明：1. 子計畫表單可自行增加。
A38: 2.說明用途欄請勿空白，請簡略描述。
A39: 3.計畫書PDF檔的經費表需核章。
A40: 4.年度經費概算表排版編列請依上下學期放一起，以利審查。(Ex：A-1 8-12月，接A-1 1-7月)
A41: 5.經費來源欄由學校視需求填列

Sheet y-3-1 (B-2)
A1: 表y-3-1 新屋高中優質化年度子計畫經費概算表(8-12月)
A3: 子計畫代碼:B-2
A4: 子計畫名稱:「探究與實作」教師增能計畫 | G4: 單位：仟元
A5: 108會計年度概算表(8-12月)
A6: 名稱(下拉式選單) | C6: 單位 | D6: 數量 | E6: 單價 | F6: 總價 | G6: 說明用途 | H6: 經費來源
A7: (一)經常門
A8: 業務費 | B8: 講座鐘點費(外聘) | C8: 節 | D8: 4 | E8: 2 | F8: =D8*E8 -> 8 | G8: B-2自然捲社群研習*4節
B9: 授課鐘點費 | C9: 節 | D9: 8 | E9: 0.4 | F9: =D9*E9 -> 3.2 | G9: B-2社群研習*8節
B10: 印刷費 | C10: 份 | D10: 20 | E10: 0.03 | F10: =D10*E10 -> 0.6 | G10: B-2 研習講義20份*30元
B11: 資料蒐集費 | C11: 套 | D11: 1 | E11: 3 | F11: =D11*E11 -> 3 | G11: B-2 空想科學讀本11冊共3000
B12: 國內旅費 | C12: 人次 | D12: 2 | E12: 1 | F12: =D12*E12 -> 2 | G12: B-2 研習講師交通費
B13: 膳宿費 | C13: 人日 | D13: 20 | E13: 0.08 | F13: =D13*E13 -> 1.6 | G13: B-2 研習膳費20人次
B14: 材料費 | C14: 人次 | D14: 20 | E14: 0.2 | F14: =D14*E14 -> 4 | G14: B-2 研習材料20人*200=4000(望遠鏡光譜儀飛機等)
B15: 全民健康保險補充保費 | C15: 式 | D15: 1 | E15: 0.21 | F15: =D15*E15 -> 0.21 | G15: B-2 二代健保
B16: 設備維護費 | C16: 次 | D16: 1 | E16: 5 | F16: =D16*E16 -> 5 | G16: B-2設備維護費
B17: 雜支 | C17: 式 | D17: 1 | E17: 2.39 | F17: =D17*E17 -> 2.39 | G17: B-2 (社群研習相關文具紙張耗材電池等)
B19: 小計 | F19: =SUM(F8:F18) -> 30
A20: 獎補助費
B21: 小計
A22: 經常門小計 | F22: =SUM(F21,F19) -> 30
A23: (二)資本門
A24: 設備及投資
A27: 資本門小計 | F27: =SUM(F24:F26) -> 0
A28: 108會計年度合計 | F28: =SUM(F22,F27) -> 30
A29: 承辦人: 承辦主任: 主計主任: 校長:
A31: 說明：1. 子計畫表單可自行增加。
A32: 2.說明用途欄請勿空白，請簡略描述。
A33: 3.計畫書PDF檔的經費表需核章。
A34: 4.年度經費概算表排版編列請依上下學期放一起，以利審查。(Ex：A-1 8-12月，接A-1 1-7月)
A35: 5.經費來源欄由學校視需求填列

Sheet y-3-2 (B-2)
A1: 表y-3-2 新屋高中優質化年度子計畫經費概算表(1-7月)
A3: 子計畫代碼:B-2
A4: 子計畫名稱:「探究與實作」教師增能計畫 | G4: 單位：仟元
A5: 109會計年度概算表(1-7月)
A6: 名稱(下拉式選單) | C6: 單位 | D6: 數量 | E6: 單價 | F6: 總價 | G6: 說明用途 | H6: 經費來源
A7: (一)經常門
A8: 業務費 | B8: 講座鐘點費(外聘) | C8: 節 | D8: 4 | E8: 2 | F8: =D8*E8 -> 8 | G8: B-2自然捲社群研習*4節
B9: 授課鐘點費 | C9: 節 | D9: 8 | E9: 0.4 | F9: =D9*E9 -> 3.2 | G9: B-2社群研習*8節
B10: 印刷費 | C10: 份 | D10: 20 | E10: 0.03 | F10: =D10*E10 -> 0.6 | G10: B-2 研習講義20份*30元
B11: 資料蒐集費 | C11: 套 | D11: 1 | E11: 3 | F11: =D11*E11 -> 3 | G11: B-2 探究與實作相關素材讀本
B12: 國內旅費 | C12: 人次 | D12: 2 | E12: 1 | F12: =D12*E12 -> 2 | G12: B-2 研習講師交通費
B13: 膳宿費 | C13: 人日 | D13: 20 | E13: 0.08 | F13: =D13*E13 -> 1.6 | G13: B-2 研習膳費20人次
B14: 材料費 | C14: 人次 | D14: 20 | E14: 0.2 | F14: =D14*E14 -> 4 | G14: B-2 研習材料20人*200=4000(望遠鏡光譜儀飛機等)
B15: 全民健康保險補充保費 | C15: 式 | D15: 1 | E15: 0.21 | F15: =D15*E15 -> 0.21 | G15: B-2 二代健保
B16: 設備維護費 | C16: 次 | D16: 1 | E16: 5 | F16: =D16*E16 -> 5 | G16: B-2設備維護費
B17: 雜支 | C17: 式 | D17: 1 | E17: 2.39 | F17: =D17*E17 -> 2.39 | G17: B-2 (社群研習相關文具紙張耗材電池等)
B22: 小計 | F22: =SUM(F3:F21) -> 30
A23: 獎補助費 | F23: =D23*E23 -> 0
F24: =D24*E24 -> 0
B25: 小計 | F25: =SUM(F23:F24) -> 0
A26: 經常門小計 | F26: =SUM(F25,F22) -> 30
A27: (二)資本門
A28: 設備及投資 | F28: =D28*E28 -> 0
F29: =D29*E29 -> 0
F30: =D30*E30 -> 0
F31: =D31*E31 -> 0
F32: =D32*E32 -> 0
A33: 資本門小計 | F33: =SUM(F28:F32) -> 0
A34: 109會計年度合計 | F34: =SUM(F26,F33) -> 30
A35: 承辦人: 承辦主任: 主計主任: 校長:
A37: 說明：1. 子計畫表單可自行增加。
A38: 2.說明用途欄請勿空白，請簡略描述。
A39: 3.計畫書PDF檔的經費表需核章。
A40: 4.年度經費概算表排版編列請依上下學期放一起，以利審查。(Ex：A-1 8-12月，接A-1 1-7月)
A41: 5.經費來源欄由學校視需求填列

Sheet y-3-1 (C-1)
A1: 表y-3-1 新屋高中優質化年度子計畫經費概算表(8-12月)
A3: 子計畫代碼:C-1
A4: 子計畫名稱:課發會培力計畫 | G4: 單位：仟元
A5: 108會計年度概算表(8-12月)
A6: 名稱(下拉式選單) | C6: 單位 | D6: 數量 | E6: 單價 | F6: 總價 | G6: 說明用途 | H6: 經費來源
A7: (一)經常門
A8: 業務費 | B8: 講座鐘點費(外聘) | C8: 節 | D8: 4 | E8: 2 | F8: =D8*E8 -> 8 | G8: C-1課發會及增能研習*4節
B9: 國內旅費 | C9: 人次 | D9: 4 | E9: 1 | F9: =D9*E9 -> 4 | G9: C-1課發會及增能研習
B10: 膳宿費 | C10: 人日 | D10: 60 | E10: 0.08 | F10: =D10*E10 -> 4.8 | G10: C-1課發會及增能研習
B11: 雜支 | C11: 式 | D11: 1 | E11: 3.2 | F11: =D11*E11 -> 3.2 | G11: C-1課發會及增能研習相關文具耗材紙張
B13: 小計 | F13: =SUM(F8:F12) -> 20
A14: 獎補助費
B15: 小計
A16: 經常門小計 | F16: =SUM(F15,F13) -> 20
A17: (二)資本門
A18: 設備及投資
A21: 資本門小計 | F21: =SUM(F18:F20) -> 0
A22: 108會計年度合計 | F22: =SUM(F16,F21) -> 20
A23: 承辦人: 承辦主任: 主計主任: 校長:
A25: 說明：1. 子計畫表單可自行增加。
A26: 2.說明用途欄請勿空白，請簡略描述。
A27: 3.計畫書PDF檔的經費表需核章。
A28: 4.年度經費概算表排版編列請依上下學期放一起，以利審查。(Ex：A-1 8-12月，接A-1 1-7月)
A29: 5.經費來源欄由學校視需求填列

Sheet y-3-2 (C-1)
A1: 表y-3-2 新屋高中優質化年度子計畫經費概算表(1-7月)
A3: 子計畫代碼:C-1
A4: 子計畫名稱:課發會培力計畫 | G4: 單位：仟元
A5: 109會計年度概算表(1-7月)
A6: 名稱(下拉式選單) | C6: 單位 | D6: 數量 | E6: 單價 | F6: 總價 | G6: 說明用途 | H6: 經費來源
A7: (一)經常門
A8: 業務費 | B8: 講座鐘點費(外聘) | C8: 節 | D8: 4 | E8: 2 | F8: =D8*E8 -> 8 | G8: C-1課發會及增能研習*4節
B9: 國內旅費 | C9: 人次 | D9: 4 | E9: 1 | F9: =D9*E9 -> 4 | G9: C-1課發會及增能研習
B10: 膳宿費 | C10: 人日 | D10: 60 | E10: 0.08 | F10: =D10*E10 -> 4.8 | G10: C-1課發會及增能研習
B11: 雜支 | C11: 式 | D11: 1 | E11: 3.2 | F11: =D11*E11 -> 3.2 | G11: C-1課發會及增能研習相關文具耗材紙張
B16: 小計 | F16: =SUM(F3:F15) -> 20
A17: 獎補助費
B19: 小計
A20: 經常門小計 | F20: =SUM(F19,F16) -> 20
A21: (二)資本門
A22: 設備及投資
A27: 資本門小計 | F27: =SUM(F22:F26) -> 0
A28: 109會計年度合計 | F28: =SUM(F20,F27) -> 20
A29: 承辦人: 承辦主任: 主計主任: 校長:
A31: 說明：1. 子計畫表單可自行增加。
A32: 2.說明用途欄請勿空白，請簡略描述。
A33: 3.計畫書PDF檔的經費表需核章。
A34: 4.年度經費概算表排版編列請依上下學期放一起，以利審查。(Ex：A-1 8-12月，接A-1 1-7月)
A35: 5.經費來源欄由學校視需求填列

Sheet y-3-1 (C-2)
A1: 表y-3-1 新屋高中優質化年度子計畫經費概算表(8-12月)
A3: 子計畫代碼:C-2
A4: 子計畫名稱:校本及區域諮詢輔導計畫 | G4: 單位：仟元
A5: 108會計年度概算表(8-12月)
A6: 名稱(下拉式選單) | C6: 單位 | D6: 數量 | E6: 單價 | F6: 總價 | G6: 說明用途 | H6: 經費來源
A7: (一)經常門
A8: 業務費 | B8: 諮詢費 | C8: 人次 | D8: 12 | E8: 2.5 | F8: =D8*E8 -> 30 | G8: C-2 專家諮輔
B9: 印刷費 | C9: 份 | D9: 40 | E9: 0.04 | F9: =D9*E9 -> 1.6 | G9: C-2 專家諮輔及課程審查評鑑等相關會議研習印刷費40份*40元
B10: 國內旅費 | C10: 人次 | D10: 12 | E10: 1 | F10: =D10*E10 -> 12 | G10: C-2 專家諮輔及校內教師參加高優相關會議或研習之交通費
B11: 膳宿費 | C11: 人日 | D11: 80 | E11: 0.08 | F11: =D11*E11 -> 6.4 | G11: C-2 專家諮輔會議午餐80人次
B13: 小計 | F13: =SUM(F8:F12) -> 50
A14: 獎補助費
B15: 小計
A16: 經常門小計 | F16: =SUM(F15,F13) -> 50
A17: (二)資本門
A18: 設備及投資
A21: 資本門小計 | F21: =SUM(F18:F20) -> 0
A22: 108會計年度合計 | F22: =SUM(F16,F21) -> 50
A23: 承辦人: 承辦主任: 主計主任: 校長:
A25: 說明：1. 子計畫表單可自行增加。
A26: 2.說明用途欄請勿空白，請簡略描述。
A27: 3.計畫書PDF檔的經費表需核章。
A28: 4.年度經費概算表排版編列請依上下學期放一起，以利審查。(Ex：A-1 8-12月，接A-1 1-7月)
A29: 5.經費來源欄由學校視需求填列

Sheet y-3-2 (C-2)
A1: 表y-3-2 新屋高中優質化年度子計畫經費概算表(1-7月)
A3: 子計畫代碼:C-2
A4: 子計畫名稱:校本及區域諮詢輔導計畫 | G4: 單位：仟元
A5: 109會計年度概算表(1-7月)
A6: 名稱(下拉式選單) | C6: 單位 | D6: 數量 | E6: 單價 | F6: 總價 | G6: 說明用途 | H6: 經費來源
A7: (一)經常門
A8: 業務費 | B8: 諮詢費 | C8: 人次 | D8: 12 | E8: 2.5 | F8: =D8*E8 -> 30 | G8: C-2 專家諮輔
B9: 印刷費 | C9: 份 | D9: 40 | E9: 0.04 | F9: =D9*E9 -> 1.6 | G9: C-2 專家諮輔及課程審查評鑑等相關會議研習印刷費40份*40元
B10: 國內旅費 | C10: 人次 | D10: 12 | E10: 1 | F10: =D10*E10 -> 12 | G10: C-2 專家諮輔及校內教師參加高優相關會議或研習之交通費
B11: 膳宿費 | C11: 人日 | D11: 80 | E11: 0.08 | F11: =D11*E11 -> 6.4 | G11: C-2 專家諮輔會議午餐80人次
B16: 小計 | F16: =SUM(F3:F15) -> 50
A17: 獎補助費
B19: 小計
A20: 經常門小計 | F20: =SUM(F19,F16) -> 50
A21: (二)資本門
A22: 設備及投資
A27: 資本門小計 | F27: =SUM(F22:F26) -> 0
A28: 109會計年度合計 | F28: =SUM(F20,F27) -> 50
A29: 承辦人: 承辦主任: 主計主任: 校長:
A31: 說明：1. 子計畫表單可自行增加。
A32: 2.說明用途欄請勿空白，請簡略描述。
A33: 3.計畫書PDF檔的經費表需核章。
A34: 4.年度經費概算表排版編列請依上下學期放一起，以利審查。(Ex：A-1 8-12月，接A-1 1-7月)
A35: 5.經費來源欄由學校視需求填列

Sheet y-3-1 (C-3)
A1: 表y-3-1 新屋高中優質化年度子計畫經費概算表(8-12月)
A3: 子計畫代碼:C-3
A4: 子計畫名稱:校際交流計畫 | G4: 單位：仟元
A5: 108會計年度概算表(8-12月)
A6: 名稱(下拉式選單) | C6: 單位 | D6: 數量 | E6: 單價 | F6: 總價 | G6: 說明用途 | H6: 經費來源
A7: (一)經常門
A8: 業務費 | B8: 膳宿費 | C8: 人日 | D8: 40 | E8: 0.08 | F8: =D8*E8 -> 3.2 | G8: C-3校際交流餐費40人次
B9: 租車費 | C9: 輛 | D9: 1 | E9: 12 | F9: =D9*E9 -> 12 | G9: C-3校際交流1輛車
B10: 保險費 | C10: 人 | D10: 40 | E10: 0.03 | F10: =D10*E10 -> 1.2 | G10: C-3校際交流
B11: 雜支 | C11: 式 | D11: 1 | E11: 3.6 | F11: =D11*E11 -> 3.6 | G11: C-3校際交流所需文具耗材紙張等
B13: 小計 | F13: =SUM(F8:F12) -> 20
A14: 獎補助費
B15: 小計
A16: 經常門小計 | F16: =SUM(F15,F13) -> 20
A17: (二)資本門
A18: 設備及投資
A21: 資本門小計 | F21: =SUM(F18:F20) -> 0
A22: 108會計年度合計 | F22: =SUM(F16,F21) -> 20
A23: 承辦人: 承辦主任: 主計主任: 校長:
A25: 說明：1. 子計畫表單可自行增加。
A26: 2.說明用途欄請勿空白，請簡略描述。
A27: 3.計畫書PDF檔的經費表需核章。
A28: 4.年度經費概算表排版編列請依上下學期放一起，以利審查。(Ex：A-1 8-12月，接A-1 1-7月)
A29: 5.經費來源欄由學校視需求填列

Sheet y-3-2 (C-3)
A1: 表y-3-2 新屋高中優質化年度子計畫經費概算表(1-7月)
A3: 子計畫代碼:C-3
A4: 子計畫名稱:校際交流計畫 | G4: 單位：仟元
A5: 109會計年度概算表(1-7月)
A6: 名稱(下拉式選單) | C6: 單位 | D6: 數量 | E6: 單價 | F6: 總價 | G6: 說明用途 | H6: 經費來源
A7: (一)經常門
A8: 業務費 | B8: 膳宿費 | C8: 人日 | D8: 40 | E8: 0.08 | F8: =D8*E8 -> 3.2 | G8: C-3校際交流餐費40人次
B9: 租車費 | C9: 輛 | D9: 1 | E9: 12 | F9: =D9*E9 -> 12 | G9: C-3校際交流1輛車
B10: 保險費 | C10: 人 | D10: 40 | E10: 0.03 | F10: =D10*E10 -> 1.2 | G10: C-3校際交流
B11: 雜支 | C11: 式 | D11: 1 | E11: 3.6 | F11: =D11*E11 -> 3.6 | G11: C-3校際交流所需文具耗材紙張等
B16: 小計 | F16: =SUM(F3:F15) -> 20
A17: 獎補助費
B19: 小計
A20: 經常門小計 | F20: =SUM(F19,F16) -> 20
A21: (二)資本門
A22: 設備及投資
A27: 資本門小計 | F27: =SUM(F22:F26) -> 0
A28: 109會計年度合計 | F28: =SUM(F20,F27) -> 20
A29: 承辦人: 承辦主任: 主計主任: 校長:
A31: 說明：1. 子計畫表單可自行增加。
A32: 2.說明用途欄請勿空白，請簡略描述。
A33: 3.計畫書PDF檔的經費表需核章。
A34: 4.年度經費概算表排版編列請依上下學期放一起，以利審查。(Ex：A-1 8-12月，接A-1 1-7月)
A35: 5.經費來源欄由學校視需求填列

Sheet y-3-1 (D-1)
A1: 表y-3-1 新屋高中優質化年度子計畫經費概算表(8-12月)
A3: 子計畫代碼:D-1
A4: 子計畫名稱:開放硬體(mBot課程) 計劃 | G4: 單位：仟元
A5: 108會計年度概算表(8-12月)
A6: 名稱(下拉式選單) | C6: 單位 | D6: 數量 | E6: 單價 | F6: 總價 | G6: 說明用途 | H6: 經費來源
A7: (一)經常門
A8: 業務費 | B8: 講座鐘點費(外聘) | C8: 節 | D8: 8 | E8: 2 | F8: =D8*E8 -> 16 | G8: D-1：領域研習*8節
B9: 國內旅費 | C9: 人次 | D9: 4 | E9: 0.16 | F9: =D9*E9 -> 0.64 | G9: D-1：領域研習講師交通費
B10: 物品費 | C10: 組 | D10: 20 | E10: 4 | F10: =D10*E10 -> 80 | G10: D-1：mBot及收納箱
B11: 全民健康保險補充保費 | C11: 式 | D11: 1 | E11: 0.31 | F11: =D11*E11 -> 0.31 | G11: D-1二代健保
B12: 雜支 | C12: 式 | D12: 1 | E12: 3.05 | F12: =D12*E12 -> 3.05 | G12: D-1：mBot課程及生活領域相關紙張文具耗材
B13: 小計 | F13: =SUM(F8:F12) -> 100
A14: 獎補助費
B15: 小計
A16: 經常門小計 | F16: =SUM(F15,F13) -> 100
A17: (二)資本門
A18: 設備及投資 | B18: 筆記型電腦 | C18: 臺 | D18: 1 | E18: 30 | F18: =D18*E18 -> 30 | G18: 本校新設高中，教室內都沒有桌上型電腦，惟新校舍尚在建置中，沒有足夠空間放置桌上型電腦，故採購筆電供執行高優計畫之相關教師借用。
B19: 數位相機 | C19: 臺 | D19: 1 | E19: 10 | F19: =D19*E19 -> 10 | G19: 記錄高優相關課程及活動使用。
A21: 資本門小計 | F21: =SUM(F18:F20) -> 40
A22: 108會計年度合計 | F22: =SUM(F16,F21) -> 140
A23: 承辦人: 承辦主任: 主計主任: 校長:
A25: 說明：1. 子計畫表單可自行增加。
A26: 2.說明用途欄請勿空白，請簡略描述。
A27: 3.計畫書PDF檔的經費表需核章。
A28: 4.年度經費概算表排版編列請依上下學期放一起，以利審查。(Ex：A-1 8-12月，接A-1 1-7月)
A29: 5.經費來源欄由學校視需求填列

Sheet y-3-2 (D-2)
A1: 表y-3-2 新屋高中優質化年度子計畫經費概算表(1-7月)
A3: 子計畫代碼:D-2
A4: 子計畫名稱:幸福新高─就近入學計畫 | G4: 單位：仟元
A5: 109會計年度概算表(1-7月)
A6: 名稱(下拉式選單) | C6: 單位 | D6: 數量 | E6: 單價 | F6: 總價 | G6: 說明用途 | H6: 經費來源
A7: (一)經常門
A8: 業務費
B16: 小計
A17: 獎補助費 | B17: 學生獎學金 | C17: 人次 | D17: 22 | E17: 10 | F17: =D17*E17 -> 220 | G17: D-2：入學獎學金+107學年度入學續發獎學金共11人
B19: 小計 | F19: =SUM(F17:F18) -> 220
A20: 經常門小計 | F20: =SUM(F19,F16) -> 220
A21: (二)資本門
A22: 設備及投資
A27: 資本門小計 | F27: =SUM(F22:F26) -> 0
A28: 109會計年度合計 | F28: =SUM(F20,F27) -> 220
A29: 承辦人: 承辦主任: 主計主任: 校長:
A31: 說明：1. 子計畫表單可自行增加。
A32: 2.說明用途欄請勿空白，請簡略描述。
A33: 3.計畫書PDF檔的經費表需核章。
A34: 4.年度經費概算表排版編列請依上下學期放一起，以利審查。(Ex：A-1 8-12月，接A-1 1-7月)
A35: 5.經費來源欄由學校視需求填列

Sheet y-4子計畫經費項目總計
A1: 表y-4 子計畫經常門經費項目彙計表 (子計畫A-D)
H2: 單位：仟元
A3: 經常門 | B3: 經費項目名稱 | C3: 108會計年度(8-12月) | E3: 109會計年度(1-7月) | G3: 108學年度
C4: 總計 | D4: 比例 | E4: 總計 | F4: 比例 | G4: 總計 | H4: 比例
A5: 業務費 | B5: 講座鐘點費(內聘) | C5: =SUMIFS(各子計畫經費!$L:$L,各子計畫經費!$H:$H,'y-4子計畫經費項目總計'!$B5,各子計畫經費!$E:$E,"108")/1000 -> 20 | D5: =(C5+C6+C7+C8)/C31 -> 0.27468354 | E5: =SUMIFS(各子計畫經費!$L:$L,各子計畫經費!$H:$H,'y-4子計畫經費項目總計'!$B5,各子計畫經費!$E:$E,"109")/1000 -> 20 | F5: =(E5+E6+E7+E8)/E31 -> 0.24393939 | G5: =C5+E5 -> 40 | H5: =(G5+G6+G7+G8)/G31 -> 0.26068966
B6: 講座鐘點費(外聘) | C6: =SUMIFS(各子計畫經費!$L:$L,各子計畫經費!$H:$H,'y-4子計畫經費項目總計'!$B6,各子計畫經費!$E:$E,"108")/1000 -> 124 | E6: =SUMIFS(各子計畫經費!$L:$L,各子計畫經費!$H:$H,'y-4子計畫經費項目總計'!$B6,各子計畫經費!$E:$E,"109")/1000 -> 80 | G6: =C6+E6 -> 204
B7: 講座助理鐘點費 | C7: =SUMIFS(各子計畫經費!$L:$L,各子計畫經費!$H:$H,'y-4子計畫經費項目總計'!$B7,各子計畫經費!$E:$E,"108")/1000 -> 20 | E7: =SUMIFS(各子計畫經費!$L:$L,各子計畫經費!$H:$H,'y-4子計畫經費項目總計'!$B7,各子計畫經費!$E:$E,"109")/1000 -> 20 | G7: =C7+E7 -> 40
B8: 授課鐘點費 | C8: =SUMIFS(各子計畫經費!$L:$L,各子計畫經費!$H:$H,'y-4子計畫經費項目總計'!$B8,各子計畫經費!$E:$E,"108")/1000 -> 53 | E8: =SUMIFS(各子計畫經費!$L:$L,各子計畫經費!$H:$H,'y-4子計畫經費項目總計'!$B8,各子計畫經費!$E:$E,"109")/1000 -> 41 | G8: =C8+E8 -> 94
B9: 諮詢費 | C9: =SUMIFS(各子計畫經費!$L:$L,各子計畫經費!$H:$H,'y-4子計畫經費項目總計'!$B9,各子計畫經費!$E:$E,"108")/1000 -> 30 | D9: =C9/C31 -> 0.037974684 | E9: =SUMIFS(各子計畫經費!$L:$L,各子計畫經費!$H:$H,'y-4子計畫經費項目總計'!$B9,各子計畫經費!$E:$E,"109")/1000 -> 30 | F9: =E9/E31 -> 0.045454545 | G9: =C9+E9 -> 60 | H9: =G9/G31 -> 0.04137931
B10: 指導費 | C10: =SUMIFS(各子計畫經費!$L:$L,各子計畫經費!$H:$H,'y-4子計畫經費項目總計'!$B10,各子計畫經費!$E:$E,"108")/1000 -> 0 | D10: =C10/C31 -> 0 | E10: =SUMIFS(各子計畫經費!$L:$L,各子計畫經費!$H:$H,'y-4子計畫經費項目總計'!$B10,各子計畫經費!$E:$E,"109")/1000 -> 0 | F10: =E10/E31 -> 0 | G10: =C10+E10 -> 0 | H10: =G10/G31 -> 0
B11: 稿費 | C11: =SUMIFS(各子計畫經費!$L:$L,各子計畫經費!$H:$H,'y-4子計畫經費項目總計'!$B11,各子計畫經費!$E:$E,"108")/1000 -> 0 | D11: =C11/C31 -> 0 | E11: =SUMIFS(各子計畫經費!$L:$L,各子計畫經費!$H:$H,'y-4子計畫經費項目總計'!$B11,各子計畫經費!$E:$E,"109")/1000 -> 0 | F11: =E11/E31 -> 0 | G11: =C11+E11 -> 0 | H11: =G11/G31 -> 0
B12: 裁判費 | C12: =SUMIFS(各子計畫經費!$L:$L,各子計畫經費!$H:$H,'y-4子計畫經費項目總計'!$B12,各子計畫經費!$E:$E,"108")/1000 -> 0 | D12: =C12/C31 -> 0 | E12: =SUMIFS(各子計畫經費!$L:$L,各子計畫經費!$H:$H,'y-4子計畫經費項目總計'!$B12,各子計畫經費!$E:$E,"109")/1000 -> 0 | F12: =E12/E31 -> 0 | G12: =C12+E12 -> 0 | H12: =G12/G31 -> 0
B13: 印刷費 | C13: =SUMIFS(各子計畫經費!$L:$L,各子計畫經費!$H:$H,'y-4子計畫經費項目總計'!$B13,各子計畫經費!$E:$E,"108")/1000 -> 6.7 | D13: =C13/C31 -> 0.0084810127 | E13: =SUMIFS(各子計畫經費!$L:$L,各子計畫經費!$H:$H,'y-4子計畫經費項目總計'!$B13,各子計畫經費!$E:$E,"109")/1000 -> 4 | F13: =E13/E31 -> 0.0060606061 | G13: =C13+E13 -> 10.7 | H13: =G13/G31 -> 0.0073793103
B14: 資料蒐集費 | C14: =SUMIFS(各子計畫經費!$L:$L,各子計畫經費!$H:$H,'y-4子計畫經費項目總計'!$B14,各子計畫經費!$E:$E,"108")/1000 -> 3 | D14: =C14/C31 -> 0.0037974684 | E14: =SUMIFS(各子計畫經費!$L:$L,各子計畫經費!$H:$H,'y-4子計畫經費項目總計'!$B14,各子計畫經費!$E:$E,"109")/1000 -> 3 | F14: =E14/E31 -> 0.0045454545 | G14: =C14+E14 -> 6 | H14: =G14/G31 -> 0.004137931
B15: 國內旅費 | C15: =SUMIFS(各子計畫經費!$L:$L,各子計畫經費!$H:$H,'y-4子計畫經費項目總計'!$B15,各子計畫經費!$E:$E,"108")/1000 -> 27.28 | D15: =C15/C31 -> 0.034531646 | E15: =SUMIFS(各子計畫經費!$L:$L,各子計畫經費!$H:$H,'y-4子計畫經費項目總計'!$B15,各子計畫經費!$E:$E,"109")/1000 -> 26 | F15: =E15/E31 -> 0.039393939 | G15: =C15+E15 -> 53.28 | H15: =G15/G31 -> 0.036744828
B16: 膳宿費 | C16: =SUMIFS(各子計畫經費!$L:$L,各子計畫經費!$H:$H,'y-4子計畫經費項目總計'!$B16,各子計畫經費!$E:$E,"108")/1000 -> 26.48 | D16: =C16/C31 -> 0.033518987 | E16: =SUMIFS(各子計畫經費!$L:$L,各子計畫經費!$H:$H,'y-4子計畫經費項目總計'!$B16,各子計畫經費!$E:$E,"109")/1000 -> 24 | F16: =E16/E31 -> 0.036363636 | G16: =C16+E16 -> 50.48 | H16: =G16/G31 -> 0.034813793
B17: 租車費 | C17: =SUMIFS(各子計畫經費!$L:$L,各子計畫經費!$H:$H,'y-4子計畫經費項目總計'!$B17,各子計畫經費!$E:$E,"108")/1000 -> 84 | D17: =C17/C31 -> 0.10632911 | E17: =SUMIFS(各子計畫經費!$L:$L,各子計畫經費!$H:$H,'y-4子計畫經費項目總計'!$B17,各子計畫經費!$E:$E,"109")/1000 -> 72 | F17: =E17/E31 -> 0.10909091 | G17: =C17+E17 -> 156 | H17: =G17/G31 -> 0.10758621
B18: 材料費 | C18: =SUMIFS(各子計畫經費!$L:$L,各子計畫經費!$H:$H,'y-4子計畫經費項目總計'!$B18,各子計畫經費!$E:$E,"108")/1000 -> 89 | D18: =C18/C31 -> 0.11265823 | E18: =SUMIFS(各子計畫經費!$L:$L,各子計畫經費!$H:$H,'y-4子計畫經費項目總計'!$B18,各子計畫經費!$E:$E,"109")/1000 -> 71 | F18: =E18/E31 -> 0.10757576 | G18: =C18+E18 -> 160 | H18: =G18/G31 -> 0.11034483
B19: 物品費 | C19: =SUMIFS(各子計畫經費!$L:$L,各子計畫經費!$H:$H,'y-4子計畫經費項目總計'!$B19,各子計畫經費!$E:$E,"108")/1000 -> 251.4 | D19: =C19/C31 -> 0.31822785 | E19: =SUMIFS(各子計畫經費!$L:$L,各子計畫經費!$H:$H,'y-4子計畫經費項目總計'!$B19,各子計畫經費!$E:$E,"109")/1000 -> 0 | F19: =E19/E31 -> 0 | G19: =C19+E19 -> 251.4 | H19: =G19/G31 -> 0.17337931
B20: 保險費 | C20: =SUMIFS(各子計畫經費!$L:$L,各子計畫經費!$H:$H,'y-4子計畫經費項目總計'!$B20,各子計畫經費!$E:$E,"108")/1000 -> 8.05 | D20: =C20/C31 -> 0.010189873 | E20: =SUMIFS(各子計畫經費!$L:$L,各子計畫經費!$H:$H,'y-4子計畫經費項目總計'!$B20,各子計畫經費!$E:$E,"109")/1000 -> 5.8 | F20: =E20/E31 -> 0.0087878788 | G20: =C20+E20 -> 13.85 | H20: =G20/G31 -> 0.0095517241
B21: 場地使用費 | C21: =SUMIFS(各子計畫經費!$L:$L,各子計畫經費!$H:$H,'y-4子計畫經費項目總計'!$B21,各子計畫經費!$E:$E,"108")/1000 -> 15 | D21: =C21/C31 -> 0.018987342 | E21: =SUMIFS(各子計畫經費!$L:$L,各子計畫經費!$H:$H,'y-4子計畫經費項目總計'!$B21,各子計畫經費!$E:$E,"109")/1000 -> 15 | F21: =E21/E31 -> 0.022727273 | G21: =C21+E21 -> 30 | H21: =G21/G31 -> 0.020689655
B22: 工讀費 | C22: =SUMIFS(各子計畫經費!$L:$L,各子計畫經費!$H:$H,'y-4子計畫經費項目總計'!$B22,各子計畫經費!$E:$E,"108")/1000 -> 0.6 | D22: =C22/C31 -> 0.00075949367 | E22: =SUMIFS(各子計畫經費!$L:$L,各子計畫經費!$H:$H,'y-4子計畫經費項目總計'!$B22,各子計畫經費!$E:$E,"109")/1000 -> 0.6 | F22: =E22/E31 -> 0.00090909091 | G22: =C22+E22 -> 1.2 | H22: =G22/G31 -> 0.00082758621
B23: 全民健康保險補充保費 | C23: =SUMIFS(各子計畫經費!$L:$L,各子計畫經費!$H:$H,'y-4子計畫經費項目總計'!$B23,各子計畫經費!$E:$E,"108")/1000 -> 3.26 | D23: =C23/C31 -> 0.0041265823 | E23: =SUMIFS(各子計畫經費!$L:$L,各子計畫經費!$H:$H,'y-4子計畫經費項目總計'!$B23,各子計畫經費!$E:$E,"109")/1000 -> 2.18 | F23: =E23/E31 -> 0.0033030303 | G23: =C23+E23 -> 5.44 | H23: =G23/G31 -> 0.0037517241
B24: 設備使用費 | C24: =SUMIFS(各子計畫經費!$L:$L,各子計畫經費!$H:$H,'y-4子計畫經費項目總計'!$B24,各子計畫經費!$E:$E,"108")/1000 -> 0 | D24: =C24/C31 -> 0 | E24: =SUMIFS(各子計畫經費!$L:$L,各子計畫經費!$H:$H,'y-4子計畫經費項目總計'!$B24,各子計畫經費!$E:$E,"109")/1000 -> 0 | F24: =E24/E31 -> 0 | G24: =C24+E24 -> 0 | H24: =G24/G31 -> 0
B25: 設備維護費 | C25: =SUMIFS(各子計畫經費!$L:$L,各子計畫經費!$H:$H,'y-4子計畫經費項目總計'!$B25,各子計畫經費!$E:$E,"108")/1000 -> 5 | D25: =C25/C31 -> 0.0063291139 | E25: =SUMIFS(各子計畫經費!$L:$L,各子計畫經費!$H:$H,'y-4子計畫經費項目總計'!$B25,各子計畫經費!$E:$E,"109")/1000 -> 5 | F25: =E25/E31 -> 0.0075757576 | G25: =C25+E25 -> 10 | H25: =G25/G31 -> 0.0068965517
B26: 軟體設計費 | C26: =SUMIFS(各子計畫經費!$L:$L,各子計畫經費!$H:$H,'y-4子計畫經費項目總計'!$B26,各子計畫經費!$E:$E,"108")/1000 -> 0 | D26: =C26/C31 -> 0 | E26: =SUMIFS(各子計畫經費!$L:$L,各子計畫經費!$H:$H,'y-4子計畫經費項目總計'!$B26,各子計畫經費!$E:$E,"109")/1000 -> 0 | F26: =E26/E31 -> 0 | G26: =C26+E26 -> 0 | H26: =G26/G31 -> 0
B27: 軟體授權費 | C27: =SUMIFS(各子計畫經費!$L:$L,各子計畫經費!$H:$H,'y-4子計畫經費項目總計'!$B27,各子計畫經費!$E:$E,"108")/1000 -> 0 | D27: =C27/C31 -> 0 | E27: =SUMIFS(各子計畫經費!$L:$L,各子計畫經費!$H:$H,'y-4子計畫經費項目總計'!$B27,各子計畫經費!$E:$E,"109")/1000 -> 0 | F27: =E27/E31 -> 0 | G27: =C27+E27 -> 0 | H27: =G27/G31 -> 0
B28: 雜支 | C28: =SUMIFS(各子計畫經費!$L:$L,各子計畫經費!$H:$H,'y-4子計畫經費項目總計'!$B28,各子計畫經費!$E:$E,"108")/1000 -> 23.23 | D28: =C28/C31 -> 0.029405063 | E28: =SUMIFS(各子計畫經費!$L:$L,各子計畫經費!$H:$H,'y-4子計畫經費項目總計'!$B28,各子計畫經費!$E:$E,"109")/1000 -> 20.42 | F28: =E28/E31 -> 0.030939394 | G28: =C28+E28 -> 43.65 | H28: =G28/G31 -> 0.030103448
A29: 獎補助費 | B29: 學生獎學金 | C29: =SUMIFS(各子計畫經費!$L:$L,各子計畫經費!$H:$H,'y-4子計畫經費項目總計'!$B29,各子計畫經費!$E:$E,"108")/1000 -> 0 | D29: =C29/C31 -> 0 | E29: =SUMIFS(各子計畫經費!$L:$L,各子計畫經費!$H:$H,'y-4子計畫經費項目總計'!$B29,各子計畫經費!$E:$E,"109")/1000 -> 220 | F29: =E29/E31 -> 0.33333333 | G29: =C29+E29 -> 220 | H29: =G29/G31 -> 0.15172414
B30: 學生獎助金 | C30: =SUMIFS(各子計畫經費!$L:$L,各子計畫經費!$H:$H,'y-4子計畫經費項目總計'!$B30,各子計畫經費!$E:$E,"108")/1000 -> 0 | D30: =C30/C31 -> 0 | E30: =SUMIFS(各子計畫經費!$L:$L,各子計畫經費!$H:$H,'y-4子計畫經費項目總計'!$B30,各子計畫經費!$E:$E,"109")/1000 -> 0 | F30: =E30/E31 -> 0 | G30: =C30+E30 -> 0 | H30: =G30/G31 -> 0
A31: 經常門總計 | C31: =SUM(C5:C30) -> 790 | E31: =SUM(E5:E30) -> 660 | G31: =C31+E31 -> 1450
A32: 說明：1. 為了協助及早完成經費核定，請學校加總各子計畫之經費項目。
A33: 2. 總計為各子計畫之經費加總。(例如：講座鐘點費A-1,A-2..B-1,B-2,..C-1,C-2…之加總)
A34: 3. 比例：子計畫經費項目之總計 / 經常門總計。
A37: 承辦人 承辦主任 主計主任 校長

Sheet 各子計畫經費
B1: 經資門 | C1: 編號 | D1: 子計畫 | E1: 年度 | F1: 孫計畫 | G1: 計畫 | H1: 經費項目 | I1: 單位 | J1: 數量 | K1: 單價 | L1: 總價 | M1: 用途
B2: 經 | C2: 2 | D2: 國際視野 | E2: 108 | F2: 1 | G2: A | H2: 講座鐘點費(外聘) | I2: 節 | J2: 2 | K2: 2000 | L2: =J2*K2 -> 4000 | M2: A-1：Mark Blohm 老師蒞校對學生講授如何寫英文學測作文，講座*2節。
B3: 經 | C3: 4 | D3: 國際視野 | E3: 108 | F3: 1 | G3: A | H3: 授課鐘點費 | I3: 節 | J3: 40 | K3: 550 | L3: =J3*K3 -> 22000 | M3: A-1：於假日辦理東南亞體驗活動6節、移工交流活動6節、古今中外去過節活動8節(協同教學)。
B4: 經 | C4: 13 | D4: 國際視野 | E4: 108 | F4: 1 | G4: A | H4: 租車費 | I4: 輛 | J4: 3 | K4: 12000 | L4: =J4*K4 -> 36000 | M4: A-1：走遍古今中外去過節:台中遊覽車一台。世界公民選修課東南亞體驗活動桃園遊覽車一台、移工交流活動鶯歌遊覽車一台。
B5: 經 | C5: 14 | D5: 國際視野 | E5: 108 | F5: 1 | G5: A | H5: 材料費 | I5: 人次 | J5: 40 | K5: 200 | L5: =J5*K5 -> 8000 | M5: A-1：多元選修材料費(世界公民東南亞體驗活動材料、移工交流活動材料)
B6: 經 | C6: 17 | D6: 國際視野 | E6: 108 | F6: 1 | G6: A | H6: 場地使用費 | I6: 次 | J6: 1 | K6: 3000 | L6: =J6*K6 -> 3000 | M6: A-1：東南亞書店場地費
B7: 經 | C7: 18 | D7: 國際視野 | E7: 108 | F7: 1 | G7: A | H7: 工讀費 | I7: 小時 | J7: 4 | K7: 150 | L7: =J7*K7 -> 600 | M7: A-1：東南亞體驗活動小隊輔4位
A8: =SUM(L2:L8) -> 74100 | B8: 經 | C8: 19 | D8: 國際視野 | E8: 108 | F8: 1 | G8: A | H8: 全民健康保險補充保費 | I8: 式 | J8: 1 | K8: =ROUND(SUM(L2:L3)*1.91%,-1) -> 500 | L8: =J8*K8 -> 500 | M8: A-1：這欄不用填
A9: =SUM(L2:L9) -> 75900 | B9: 經 | C9: 16 | D9: 國際視野 | E9: 108 | F9: 1 | G9: A | H9: 保險費 | I9: 人日 | J9: 60 | K9: 30 | L9: =J9*K9 -> 1800 | M9: A-1：國際大視野雜支
B10: 經 | C10: 4 | D10: 國際視野 | E10: 109 | F10: 1 | G10: A | H10: 授課鐘點費 | I10: 節 | J10: 40 | K10: 550 | L10: =J10*K10 -> 22000 | M10: A-1：於假日辦理東南亞體驗活動6節、移工交流活動6節、古今中外去過節活動8節(協同教學)。
B11: 經 | C11: 13 | D11: 國際視野 | E11: 109 | F11: 1 | G11: A | H11: 租車費 | I11: 輛 | J11: 3 | K11: 12000 | L11: =J11*K11 -> 36000 | M11: A-1：走遍古今中外去過節:台中遊覽車一台。世界公民選修課東南亞體驗活動桃園遊覽車一台、移工交流活動鶯歌遊覽車一台。
B12: 經 | C12: 14 | D12: 國際視野 | E12: 109 | F12: 1 | G12: A | H12: 材料費 | I12: 人次 | J12: 40 | K12: 200 | L12: =J12*K12 -> 8000 | M12: A-1：多元選修材料費(世界公民東南亞體驗活動材料、移工交流活動材料)
B13: 經 | C13: 17 | D13: 國際視野 | E13: 109 | F13: 1 | G13: A | H13: 場地使用費 | I13: 次 | J13: 1 | K13: 3000 | L13: =J13*K13 -> 3000 | M13: A-1：東南亞書店場地費
B14: 經 | C14: 18 | D14: 國際視野 | E14: 109 | F14: 1 | G14: A | H14: 工讀費 | I14: 小時 | J14: 4 | K14: 150 | L14: =J14*K14 -> 600 | M14: A-1：東南亞體驗活動小隊輔4位
A15: =SUM(L10:L15) -> 70020 | B15: 經 | C15: 19 | D15: 國際視野 | E15: 109 | F15: 1 | G15: A | H15: 全民健康保險補充保費 | I15: 式 | J15: 1 | K15: =ROUND(SUM(L10:L10)*1.91%,-1) -> 420 | L15: =J15*K15 -> 420 | M15: 這欄不用填
B16: 經 | C16: 16 | D16: 國際視野 | E16: 109 | F16: 1 | G16: A | H16: 保險費 | I16: 人日 | J16: 60 | K16: 30 | L16: =J16*K16 -> 1800
A17: =SUM(L10:L17) -> 75000 | B17: 經 | C17: 19 | D17: 國際視野 | E17: 109 | F17: 1 | G17: A | H17: 雜支 | I17: 式 | J17: 1 | K17: 3180 | L17: =J17*K17 -> 3180 | M17: A-1：國際大視野雜支
B18: 經 | C18: 2 | D18: mbot | E18: 108 | F18: 1 | G18: D | H18: 講座鐘點費(外聘) | I18: 節 | J18: 8 | K18: 2000 | L18: =J18*K18 -> 16000 | M18: D-1：領域研習*8節
B19: 經 | C19: 11 | D19: mbot | E19: 108 | F19: 1 | G19: D | H19: 國內旅費 | I19: 人次 | J19: 4 | K19: 160 | L19: =J19*K19 -> 640 | M19: D-1：領域研習講師交通費
B20: 經 | C20: 15 | D20: mbot | E20: 108 | F20: 1 | G20: D | H20: 物品費 | I20: 組 | J20: 20 | K20: 4000 | L20: =J20*K20 -> 80000 | M20: D-1：mBot及收納箱
B21: 經 | C21: 19 | D21: mbot | E21: 108 | F21: 1 | G21: D | H21: 全民健康保險補充保費 | I21: 式 | J21: 1 | K21: =ROUND(SUM(L18:L18)*1.91%,-1) -> 310 | L21: =J21*K21 -> 310 | M21: 這欄不用填
A22: =SUM(L18:L22) -> 100000 | B22: 經 | C22: 24 | D22: mbot | E22: 108 | F22: 1 | G22: D | H22: 雜支 | I22: 式 | J22: 1 | K22: 3050 | L22: =J22*K22 -> 3050
B23: 經 | C23: 25 | D23: 獎學金 | E23: 108 | F23: 2 | G23: D | H23: 學生獎學金 | I23: 人次 | J23: 0 | K23: 10000 | L23: =J23*K23 -> 0
B24: 經 | C24: 25 | D24: 獎學金 | E24: 109 | F24: 2 | G24: D | H24: 學生獎學金 | I24: 人次 | J24: 22 | K24: 10000 | L24: =J24*K24 -> 220000 | M24: D-2：入學獎學金+續發獎學金共11人
B25: 經 | C25: 15 | D25: 探究 | E25: 108 | F25: 1 | G25: A | H25: 物品費 | I25: 支 | J25: 1 | K25: 5000 | L25: =J25*K25 -> 5000 | M25: A-1：舒肥機(探究實作課程用)
B26: 經 | C26: 15 | D26: 探究 | E26: 108 | F26: 1 | G26: A | H26: 物品費 | I26: 支 | J26: 1 | K26: 2000 | L26: =J26*K26 -> 2000 | M26: A-1：食物料理棒(探究實作課程用)
B27: 經 | C27: 15 | D27: 探究 | E27: 108 | F27: 1 | G27: A | H27: 物品費 | I27: 支 | J27: 6 | K27: 300 | L27: =J27*K27 -> 1800 | M27: A-1：電動攪拌器(探究實作課程用)
B28: 經 | C28: 15 | D28: 探究 | E28: 108 | F28: 1 | G28: A | H28: 物品費 | I28: 個 | J28: 6 | K28: 1000 | L28: =J28*K28 -> 6000 | M28: A-1：迷你瓦爐(登山爐)(探究實作課程用)
B29: 經 | C29: 15 | D29: 探究 | E29: 108 | F29: 1 | G29: A | H29: 物品費 | I29: 箱 | J29: 6 | K29: 500 | L29: =J29*K29 -> 3000 | M29: A-1：手提式收納盒(探究實作課程用)
B30: 經 | C30: 15 | D30: 探究 | E30: 108 | F30: 1 | G30: A | H30: 物品費 | I30: 個 | J30: 6 | K30: 300 | L30: =J30*K30 -> 1800 | M30: A-1：隨身電子秤(探究實作課程用)
B31: 經 | C31: 15 | D31: 探究 | E31: 108 | F31: 1 | G31: A | H31: 物品費 | I31: 支 | J31: 6 | K31: 300 | L31: =J31*K31 -> 1800 | M31: A-1：電子溫度計(探究實作課程用)
B32: 經 | C32: 15 | D32: 探究 | E32: 108 | F32: 1 | G32: A | H32: 材料費 | I32: 人次 | J32: 80 | K32: 200 | L32: =J32*K32 -> 16000 | M32: A-1：探究與實作材料費(分子料理課程使用：食用級海藻酸鈉、食用級氯化鈣、鋁杯、鋁線(2.5mm)、蠟燭( 28 * 1.8 cm)、硼砂、膠水補充罐、蝶豆花)
A33: =SUM(L26:L33) -> 42400 | B33: 經 | C33: 15 | D33: 探究 | E33: 108 | F33: 1 | G33: A | H33: 材料費 | I33: 人次 | J33: 50 | K33: 200 | L33: =J33*K33 -> 10000 | M33: A-1：多元選修材料費(新屋星事望遠鏡、光譜儀DIY等)
A34: =SUM(L25:L34) -> 51100 | B34: 經 | C34: 15 | D34: 探究 | E34: 108 | F34: 1 | G34: A | H34: 雜支 | I34: 式 | J34: 1 | K34: =4600-900 -> 3700 | L34: =J34*K34 -> 3700 | M34: A-1：探究與實作及多元選修雜支
B35: 經 | C35: 15 | D35: 探究 | E35: 109 | F35: 1 | G35: A | H35: 材料費 | I35: 人次 | J35: 50 | K35: 200 | L35: =J35*K35 -> 10000 | M35: A-1：多元選修材料費(新屋星事望遠鏡、光譜儀DIY等)
A36: =SUM(L35:L36) -> 13000 | B36: 經 | C36: 15 | D36: 探究 | E36: 109 | F36: 1 | G36: A | H36: 雜支 | I36: 式 | J36: 1 | K36: 3000 | L36: =J36*K36 -> 3000 | M36: A-1：探究與實作及多元選修雜支
B37: 經 | C37: 2 | D37: 在地新屋 | E37: 108 | F37: 1 | G37: A | H37: 講座鐘點費(外聘) | I37: 節 | J37: 12 | K37: 2000 | L37: =J37*K37 -> 24000 | M37: A-1：新屋走透透(地方文史工作者講授課程*4節，地理專業講師於地理實察前對學生講授專業課程*4節，地理專業講師實察鐘點費*4節)
B38: 經 | C38: 4 | D38: 在地新屋 | E38: 108 | F38: 1 | G38: A | H38: 授課鐘點費 | I38: 節 | J38: 30 | K38: 400 | L38: =J38*K38 -> 12000 | M38: A-1：新屋走透透(地理實察5名帶隊教師當日課務（每人以6節計)委由其他教師代課之鐘點費。(本校位於觀新藻礁區內，希望能將地理實察聚焦成為特色活動，但因學校教師人數少課務多，帶全校學生出門之教師課務皆須調課處理，不利活動進行，故編列此項鐘點費。)
B39: 經 | C39: 9 | D39: 在地新屋 | E39: 108 | F39: 1 | G39: A | H39: 印刷費 | J39: 30 | K39: 90 | L39: =J39*K39 -> 2700 | M39: A-1：新屋走透透印刷費。(地方文史教材30份*30元，新屋踏查教材及手冊30份*30元，地理實察之教材及手冊30份*30元)
B40: 經 | C40: 11 | D40: 在地新屋 | E40: 108 | F40: 1 | G40: A | H40: 國內旅費 | I40: 人次 | J40: 2 | K40: 320 | L40: =J40*K40 -> 640 | M40: A-1：新屋走透透(地理領域專業講師(2次)往返台北桃園高鐵車票320/次)
...
